Workbook

Sheet 名单
A1: 承担单位 | B1: 院(系)部 | C1: 年级 | D1: 专业 | E1: 行政班级 | F1: 学号 | G1: 姓名 | H1: 课程环节 | I1: 课程类型 | J1: 上课时间 | K1: 上课地点 | L1: 学分 | M1: 学年学期 | N1: 报名类型 | O1: 报名
A2: 会计学院 | B2: 会计学院 | C2: 2023 | D2: 会计学 | E2: 2023会计学8 | F2: 221040150701 | G2: 任颖 | H2: [30301035]经济数学Ⅰ | I2: 公共课 | J2: =VLOOKUP(H2,上课安排!D:K,8,0) -> 9月18日3节 | K2: =VLOOKUP(H2,上课安排!D:L,9,0) -> D410 | L2: 2.0 | M2: 2022-2023学年第一学期 | N2: 重修 | O2: 已报名
A3: 会计学院 | B3: 会计学院 | C3: 2023 | D3: 会计学 | E3: 2023会计学8 | F3: 231040150706 | G3: 张扬 | H3: [30301035]经济数学Ⅰ | I3: 公共课 | J3: =VLOOKUP(H3,上课安排!D:K,8,0) -> 9月18日3节 | K3: =VLOOKUP(H3,上课安排!D:L,9,0) -> D410 | L3: 2.0 | M3: 2023-2024学年第一学期 | N3: 重修 | O3: 已报名
A4: 马克思主义学院 | B4: 传媒与演艺学院 | C4: 2023 | D4: 播音与主持艺术 | E4: 2023播音与主持艺术4 | F4: 231100450429 | G4: 聂宇佳 | H4: [133951]中国近现代史纲要 | I4: 公共课 | J4: =VLOOKUP(H4,上课安排!D:K,8,0) -> 9月21日第5-6节和9月22日5-10节 | K4: =VLOOKUP(H4,上课安排!D:L,9,0) -> D203；D304 | L4: 3.0 | M4: 2024-2025学年第一学期 | N4: 重修 | O4: 已报名
A5: 马克思主义学院 | B5: 传媒与演艺学院 | C5: 2023 | D5: 播音与主持艺术 | E5: 2023播音与主持艺术4 | F5: 231100450432 | G5: 张艺静 | H5: [133951]中国近现代史纲要 | I5: 公共课 | J5: =VLOOKUP(H5,上课安排!D:K,8,0) -> 9月21日第5-6节和9月22日5-10节 | K5: =VLOOKUP(H5,上课安排!D:L,9,0) -> D203；D304 | L5: 3.0 | M5: 2024-2025学年第一学期 | N5: 重修 | O5: 已报名
A6: 马克思主义学院 | B6: 传媒与演艺学院 | C6: 2023 | D6: 播音与主持艺术 | E6: 2023播音与主持艺术7 | F6: 221100450416 | G6: 陈乙维 | H6: [133951]中国近现代史纲要 | I6: 公共课 | J6: =VLOOKUP(H6,上课安排!D:K,8,0) -> 9月21日第5-6节和9月22日5-10节 | K6: =VLOOKUP(H6,上课安排!D:L,9,0) -> D203；D304 | L6: 3.0 | M6: 2023-2024学年第一学期 | N6: 重修 | O6: 已报名
A7: 马克思主义学院 | B7: 传媒与演艺学院 | C7: 2023 | D7: 播音与主持艺术 | E7: 2023播音与主持艺术9 | F7: 231100450910 | G7: 付强 | H7: [133951]中国近现代史纲要 | I7: 公共课 | J7: =VLOOKUP(H7,上课安排!D:K,8,0) -> 9月21日第5-6节和9月22日5-10节 | K7: =VLOOKUP(H7,上课安排!D:L,9,0) -> D203；D304 | L7: 3.0 | M7: 2024-2025学年第一学期 | N7: 重修 | O7: 已报名
A8: 马克思主义学院 | B8: 传媒与演艺学院 | C8: 2023 | D8: 播音与主持艺术 | E8: 2023播音与主持艺术9 | F8: 231100450911 | G8: 左航沅 | H8: [133951]中国近现代史纲要 | I8: 公共课 | J8: =VLOOKUP(H8,上课安排!D:K,8,0) -> 9月21日第5-6节和9月22日5-10节 | K8: =VLOOKUP(H8,上课安排!D:L,9,0) -> D203；D304 | L8: 3.0 | M8: 2024-2025学年第一学期 | N8: 重修 | O8: 已报名
A9: 马克思主义学院 | B9: 传媒与演艺学院 | C9: 2023 | D9: 表演 | E9: 2023表演3 | F9: 231100250307 | G9: 刘秉昕 | H9: [133951]中国近现代史纲要 | I9: 公共课 | J9: =VLOOKUP(H9,上课安排!D:K,8,0) -> 9月21日第5-6节和9月22日5-10节 | K9: =VLOOKUP(H9,上课安排!D:L,9,0) -> D203；D304 | L9: 3.0 | M9: 2024-2025学年第一学期 | N9: 重修 | O9: 已报名
A10: 马克思主义学院 | B10: 传媒与演艺学院 | C10: 2023 | D10: 表演 | E10: 2023表演5 | F10: 221100250407 | G10: 范泽彬 | H10: [133951]中国近现代史纲要 | I10: 公共课 | J10: =VLOOKUP(H10,上课安排!D:K,8,0) -> 9月21日第5-6节和9月22日5-10节 | K10: =VLOOKUP(H10,上课安排!D:L,9,0) -> D203；D304 | L10: 3.0 | M10: 2023-2024学年第一学期 | N10: 重修 | O10: 已报名
A11: 马克思主义学院 | B11: 传媒与演艺学院 | C11: 2023 | D11: 表演 | E11: 2023表演5 | F11: 231100250502 | G11: 黄永豪 | H11: [133951]中国近现代史纲要 | I11: 公共课 | J11: =VLOOKUP(H11,上课安排!D:K,8,0) -> 9月21日第5-6节和9月22日5-10节 | K11: =VLOOKUP(H11,上课安排!D:L,9,0) -> D203；D304 | L11: 3.0 | M11: 2024-2025学年第一学期 | N11: 重修 | O11: 已报名
A12: 马克思主义学院 | B12: 传媒与演艺学院 | C12: 2023 | D12: 表演 | E12: 2023表演6 | F12: 231100250607 | G12: 许永杰 | H12: [133951]中国近现代史纲要 | I12: 公共课 | J12: =VLOOKUP(H12,上课安排!D:K,8,0) -> 9月21日第5-6节和9月22日5-10节 | K12: =VLOOKUP(H12,上课安排!D:L,9,0) -> D203；D304 | L12: 3.0 | M12: 2024-2025学年第一学期 | N12: 重修 | O12: 已报名
A13: 马克思主义学院 | B13: 传媒与演艺学院 | C13: 2023 | D13: 表演 | E13: 2023表演7 | F13: 231100250716 | G13: 王旖晨 | H13: [133951]中国近现代史纲要 | I13: 公共课 | J13: =VLOOKUP(H13,上课安排!D:K,8,0) -> 9月21日第5-6节和9月22日5-10节 | K13: =VLOOKUP(H13,上课安排!D:L,9,0) -> D203；D304 | L13: 3.0 | M13: 2024-2025学年第一学期 | N13: 重修 | O13: 已报名
... A16: 马克思主义学院 | B16: 传媒与演艺学院 | C16: 2023 | D16: 播音与主持艺术 | E16: 2023播音与主持艺术8 | F16: 231100450832 | G16: 黄蓉 | H16: [133951]中国近现代史纲要 | I16: 公共课 | J16: =VLOOKUP(H16,上课安排!D:K,8,0) -> 9月21日第5-6节和9月22日5-10节 | K16: =VLOOKUP(H16,上课安排!D:L,9,0) -> D203；D304 | L16: 3.0 | M16: 2024-2025学年第一学期 | N16: 重修 | O16: 补报名
A17: 马克思主义学院 | B17: 传媒与演艺学院 | C17: 2023 | D17: 广播电视编导 | E17: 2023广播电视编导1 | F17: 231100350130 | G17: 付子瑞 | H17: [133951]中国近现代史纲要 | I17: 公共课 | J17: =VLOOKUP(H17,上课安排!D:K,8,0) -> 9月21日第5-6节和9月22日5-10节 | K17: =VLOOKUP(H17,上课安排!D:L,9,0) -> D203；D304 | L17: 3.0 | M17: 2024-2025学年第一学期 | N17: 刷分 | O17: 补报名
A18: 马克思主义学院 | B18: 教育学院 | C18: 2023 | D18: 书法学 | E18: 2023书法学1 | F18: 231080350117 | G18: 叶颖 | H18: [133913]思想道德与法治 | I18: 公共课 | J18: =VLOOKUP(H18,上课安排!D:K,8,0) -> 9月20日3-4节 | K18: =VLOOKUP(H18,上课安排!D:L,9,0) -> D401 | L18: 3.0 | M18: 2023-2024学年第一学期 | N18: 重修 | O18: 已报名
A19: 马克思主义学院 | B19: 教育学院 | C19: 2023 | D19: 书法学 | E19: 2023书法学5 | F19: 231080350503 | G19: 陈熠 | H19: [133951]中国近现代史纲要 | I19: 公共课 | J19: =VLOOKUP(H19,上课安排!D:K,8,0) -> 9月21日第5-6节和9月22日5-10节 | K19: =VLOOKUP(H19,上课安排!D:L,9,0) -> D203；D304 | L19: 3.0 | M19: 2024-2025学年第一学期 | N19: 重修 | O19: 补报名
A20: 人工智能与大数据学院 | B20: 理工学院 | C20: 2023 | D20: 网络工程 | E20: 2023网络工程1 | F20: 231060250103 | G20: 熊锐 | H20: [17322030]高等数学I | I20: 公共课 | J20: =VLOOKUP(H20,上课安排!D:K,8,0) -> 9月20日7-8节 | K20: =VLOOKUP(H20,上课安排!D:L,9,0) -> D401 | L20: 3.0 | M20: 2023-2024学年第一学期 | N20: 重修 | O20: 已报名
A21: 人工智能与大数据学院 | B21: 理工学院 | C21: 2023 | D21: 物联网工程 | E21: 2023物联网工程1 | F21: 221060450210 | G21: 晏朝宇 | H21: [17323030]高等数学I | I21: 公共课 | J21: =VLOOKUP(H21,上课安排!D:K,8,0) -> 9月20日10-11节 | K21: =VLOOKUP(H21,上课安排!D:L,9,0) -> D402 | L21: 3.0 | M21: 2022-2023学年第一学期 | N21: 重修 | O21: 已报名
A22: 人工智能与大数据学院 | B22: 理工学院 | C22: 2023 | D22: 物联网工程 | E22: 2023物联网工程1 | F22: 231060450124 | G22: 何金隆 | H22: [17323030]高等数学I | I22: 公共课 | J22: =VLOOKUP(H22,上课安排!D:K,8,0) -> 9月20日10-11节 | K22: =VLOOKUP(H22,上课安排!D:L,9,0) -> D402 | L22: 3.0 | M22: 2023-2024学年第一学期 | N22: 重修 | O22: 已报名
A23: 人工智能与大数据学院 | B23: 人工智能与大数据学院 | C23: 2023 | D23: 计算机科学与技术 | E23: 2023计算机科学与技术6 | F23: 221060150712 | G23: 程福临 | H23: [17302030]高等数学I | I23: 公共课 | J23: =VLOOKUP(H23,上课安排!D:K,8,0) -> 9月18日5-6节 | K23: =VLOOKUP(H23,上课安排!D:L,9,0) -> D405 | L23: 3.0 | M23: 2022-2023学年第一学期 | N23: 重修 | O23: 已报名
A24: 数智经济与管理学院 | B24: 数智经济与管理学院 | C24: 2023 | D24: 经济学 | E24: 2023经济学1 | F24: 231030150117 | G24: 邱凡雲 | H24: [11301039]经济数学I | I24: 公共课 | J24: =VLOOKUP(H24,上课安排!D:K,8,0) -> 9月19日9-11节 | K24: =VLOOKUP(H24,上课安排!D:L,9,0) -> D405 | L24: 4.0 | M24: 2023-2024学年第一学期 | N24: 重修 | O24: 已报名
A25: 数智经济与管理学院 | B25: 数智经济与管理学院 | C25: 2023 | D25: 经济学 | E25: 2023经济学1 | F25: 231030150209 | G25: 陈星宇 | H25: [11301039]经济数学I | I25: 公共课 | J25: =VLOOKUP(H25,上课安排!D:K,8,0) -> 9月19日9-11节 | K25: =VLOOKUP(H25,上课安排!D:L,9,0) -> D405 | L25: 4.0 | M25: 2023-2024学年第一学期 | N25: 重修 | O25: 已报名
A26: 数智经济与管理学院 | B26: 数智经济与管理学院 | C26: 2023 | D26: 经济学 | E26: 2023经济学2 | F26: 231030150111 | G26: 薛佳锐 | H26: [11301039]经济数学I | I26: 公共课 | J26: =VLOOKUP(H26,上课安排!D:K,8,0) -> 9月19日9-11节 | K26: =VLOOKUP(H26,上课安排!D:L,9,0) -> D405 | L26: 4.0 | M26: 2023-2024学年第一学期 | N26: 重修 | O26: 已报名
A27: 数智经济与管理学院 | B27: 数智经济与管理学院 | C27: 2023 | D27: 经济学 | E27: 2023经济学2 | F27: 231030150202 | G27: 黄锐涛 | H27: [11301039]经济数学I | I27: 公共课 | J27: =VLOOKUP(H27,上课安排!D:K,8,0) -> 9月19日9-11节 | K27: =VLOOKUP(H27,上课安排!D:L,9,0) -> D405 | L27: 4.0 | M27: 2023-2024学年第一学期 | N27: 重修 | O27: 已报名
A28: 数智经济与管理学院 | B28: 数智经济与管理学院 | C28: 2023 | D28: 大数据管理与应用 | E28: 2023大数据管理与应用1 | F28: 231031150108 | G28: 王林杰 | H28: [11333001]高等数学I | I28: 公共课 | J28: =VLOOKUP(H28,上课安排!D:K,8,0) -> 9月18日7-8节 | K28: =VLOOKUP(H28,上课安排!D:L,9,0) -> D405 | L28: 3.0 | M28: 2023-2024学年第一学期 | N28: 重修 | O28: 已报名
A29: 体育与大健康学院 | B29: 传媒与演艺学院 | C29: 2023 | D29: 广播电视编导 | E29: 2023广播电视编导3 | F29: 231100350309 | G29: 吴翊璇 | H29: [193911]体育Ⅰ | I29: 公共课 | J29: =VLOOKUP(H29,上课安排!D:K,8,0) -> 9月21日3-4节 | K29: =VLOOKUP(H29,上课安排!D:L,9,0) -> 田径场 | L29: 1.0 | M29: 2023-2024学年第一学期 | N29: 重修 | O29: 已报名
... A32: 体育与大健康学院 | B32: 传媒与演艺学院 | C32: 2023 | D32: 广播电视编导 | E32: 2023广播电视编导3 | F32: 231100350326 | G32: 王旭 | H32: [193956]体育Ⅲ(高尔夫球) | I32: 公共课 | J32: =VLOOKUP(H32,上课安排!D:K,8,0) -> 9月22日3-4节 | K32: =VLOOKUP(H32,上课安排!D:L,9,0) -> 高尔夫球场 | L32: 1.0 | M32: 2024-2025学年第一学期 | N32: 重修 | O32: 补报名
A33: 体育与大健康学院 | B33: 传媒与演艺学院 | C33: 2023 | D33: 广播电视编导 | E33: 2023广播电视编导1 | F33: 231100350130 | G33: 付子瑞 | H33: [193911]体育Ⅰ | I33: 公共课 | J33: =VLOOKUP(H33,上课安排!D:K,8,0) -> 9月21日3-4节 | K33: =VLOOKUP(H33,上课安排!D:L,9,0) -> 田径场 | L33: 2.0 | M33: 2023-2024学年第一学期 | N33: 刷分 | O33: 补报名
A34: 体育与大健康学院 | B34: 传媒与演艺学院 | C34: 2023 | D34: 广播电视编导 | E34: 2023广播电视编导1 | F34: 231100350130 | G34: 付子瑞 | H34: [193939]体育Ⅲ（跆拳道） | I34: 公共课 | J34: =VLOOKUP(H34,上课安排!D:K,8,0) -> 9月24日7-8节 | K34: =VLOOKUP(H34,上课安排!D:L,9,0) -> 体育馆 | L34: 2.0 | M34: 2024-2025学年第一学期 | N34: 刷分 | O34: 补报名
A35: 体育与大健康学院 | B35: 教育学院 | C35: 2023 | D35: 书法学 | E35: 2023书法学5 | F35: 231080350520 | G35: 曹祖晶 | H35: [193937]体育Ⅲ（保健） | I35: 公共课 | J35: =VLOOKUP(H35,上课安排!D:K,8,0) -> 9月23日5-6节 | K35: =VLOOKUP(H35,上课安排!D:L,9,0) -> 体育馆304 | L35: 1.0 | M35: 2024-2025学年第一学期 | N35: 重修 | O35: 补报名
A36: 文学院 | B36: 传媒与演艺学院 | C36: 2023 | D36: 表演 | E36: 2023表演5 | F36: 221100250407 | G36: 范泽彬 | H36: [143919]大学日语Ⅰ | I36: 公共课 | J36: =VLOOKUP(H36,上课安排!D:K,8,0) -> 9月24日3-4节 | K36: =VLOOKUP(H36,上课安排!D:L,9,0) -> A513 | L36: 3.0 | M36: 2022-2023学年第一学期 | N36: 重修 | O36: 已报名
A37: 文学院 | B37: 传媒与演艺学院 | C37: 2023 | D37: 表演 | E37: 2023表演5 | F37: 221100250407 | G37: 范泽彬 | H37: [143939]大学日语Ⅲ | I37: 公共课 | J37: =VLOOKUP(H37,上课安排!D:K,8,0) -> 9月24日5-6节 | K37: =VLOOKUP(H37,上课安排!D:L,9,0) -> A513 | L37: 3.0 | M37: 2023-2024学年第一学期 | N37: 重修 | O37: 已报名
A38: 文学院 | B38: 传媒与演艺学院 | C38: 2023 | D38: 广播电视编导 | E38: 2023广播电视编导1 | F38: 231100350115 | G38: 陈毅霖 | H38: [143955]大学外语Ⅰ（英语 艺体本科） | I38: 公共课 | J38: =VLOOKUP(H38,上课安排!D:K,8,0) -> 9月18日5-12节 | K38: =VLOOKUP(H38,上课安排!D:L,9,0) -> D304 | L38: 3.0 | M38: 2023-2024学年第一学期 | N38: 重修 | O38: 已报名
A39: 文学院 | B39: 传媒与演艺学院 | C39: 2023 | D39: 广播电视编导 | E39: 2023广播电视编导3 | F39: 221100251111 | G39: 托尔洪·吐尔地 | H39: [143955]大学外语Ⅰ（英语 艺体本科） | I39: 公共课 | J39: =VLOOKUP(H39,上课安排!D:K,8,0) -> 9月18日5-12节 | K39: =VLOOKUP(H39,上课安排!D:L,9,0) -> D304 | L39: 3.0 | M39: 2022-2023学年第一学期 | N39: 重修 | O39: 已报名
A40: 文学院 | B40: 传媒与演艺学院 | C40: 2023 | D40: 播音与主持艺术 | E40: 2023播音与主持艺术1 | F40: 231100450104 | G40: 周胜 | H40: [143955]大学外语Ⅰ（英语 艺体本科） | I40: 公共课 | J40: =VLOOKUP(H40,上课安排!D:K,8,0) -> 9月18日5-12节 | K40: =VLOOKUP(H40,上课安排!D:L,9,0) -> D304 | L40: 3.0 | M40: 2023-2024学年第一学期 | N40: 重修 | O40: 已报名
A41: 文学院 | B41: 传媒与演艺学院 | C41: 2023 | D41: 播音与主持艺术 | E41: 2023播音与主持艺术6 | F41: 231100450601 | G41: 谢方伦 | H41: [143955]大学外语Ⅰ（英语 艺体本科） | I41: 公共课 | J41: =VLOOKUP(H41,上课安排!D:K,8,0) -> 9月18日5-12节 | K41: =VLOOKUP(H41,上课安排!D:L,9,0) -> D304 | L41: 3.0 | M41: 2023-2024学年第一学期 | N41: 重修 | O41: 已报名
A42: 文学院 | B42: 传媒与演艺学院 | C42: 2023 | D42: 播音与主持艺术 | E42: 2023播音与主持艺术6 | F42: 231100450603 | G42: 罗德鑫 | H42: [143955]大学外语Ⅰ（英语 艺体本科） | I42: 公共课 | J42: =VLOOKUP(H42,上课安排!D:K,8,0) -> 9月18日5-12节 | K42: =VLOOKUP(H42,上课安排!D:L,9,0) -> D304 | L42: 3.0 | M42: 2023-2024学年第一学期 | N42: 重修 | O42: 已报名
A43: 文学院 | B43: 传媒与演艺学院 | C43: 2023 | D43: 播音与主持艺术 | E43: 2023播音与主持艺术6 | F43: 231100450614 | G43: 张宇翔 | H43: [143955]大学外语Ⅰ（英语 艺体本科） | I43: 公共课 | J43: =VLOOKUP(H43,上课安排!D:K,8,0) -> 9月18日5-12节 | K43: =VLOOKUP(H43,上课安排!D:L,9,0) -> D304 | L43: 3.0 | M43: 2023-2024学年第一学期 | N43: 重修 | O43: 已报名
A44: 文学院 | B44: 传媒与演艺学院 | C44: 2023 | D44: 播音与主持艺术 | E44: 2023播音与主持艺术9 | F44: 231100450905 | G44: 吕炳辰 | H44: [143955]大学外语Ⅰ（英语 艺体本科） | I44: 公共课 | J44: =VLOOKUP(H44,上课安排!D:K,8,0) -> 9月18日5-12节 | K44: =VLOOKUP(H44,上课安排!D:L,9,0) -> D304 | L44: 3.0 | M44: 2023-2024学年第一学期 | N44: 重修 | O44: 已报名
...

Sheet 上课安排
A1: 承担单位 | B1: 年级 | C1: 专业 | D1: 课程环节 | E1: 学年学期 | F1: 学分 | G1: 人数 | H1: 类别 | I1: 形式（开班/辅导/跟听） | J1: 任课老师 | K1: 上课时间（9月18-24日）线下授课 | L1: 上课地点 | M1: 课时量 | N1: 备注（重修班QQ群号/老师联系方式）
A2: 理工学院 | B2: 2023 | C2: 公共课 | D2: [30301035]经济数学Ⅰ | E2: 2023-2024学年第一学期 | F2: 2 | G2: 2 | H2: 重新学习 | I2: 辅导 | J2: 刘小舟 | K2: 9月18日3节 | L2: D410 | M2: 1 | N2: QQ群：825255849
A3: 理工学院 | B3: 2023 | C3: 公共课 | D3: [17302030]高等数学I | E3: 2022-2023学年第一学期 | F3: 3 | G3: 1 | H3: 重新学习 | I3: 辅导 | J3: 宋建军 | K3: 9月18日5-6节 | L3: D405 | M3: 2 | N3: QQ群：766201232
A4: 理工学院 | B4: 2023 | C4: 公共课 | D4: [17322030]高等数学I | E4: 2023-2024学年第一学期 | F4: 3 | G4: 1 | H4: 重新学习 | I4: 辅导 | J4: 程峰 | K4: 9月20日7-8节 | L4: D401 | M4: 2 | N4: QQ群：1065435126 手机：18581979279
A5: 理工学院 | B5: 2023 | C5: 公共课 | D5: [17323030]高等数学I | E5: 2022-2023学年第一学期 | F5: 3 | G5: 2 | H5: 重新学习 | I5: 辅导 | J5: 程峰 | K5: 9月20日10-11节 | L5: D402 | M5: 2 | N5: QQ群：1065435126 手机：18581979279
A6: 理工学院 | B6: 2023 | C6: 公共课 | D6: [11301039]经济数学I | E6: 2023-2024学年第一学期 | F6: 4 | G6: 4 | H6: 重新学习 | I6: 辅导 | J6: 刘建 | K6: 9月19日9-11节 | L6: D405 | M6: 3 | N6: QQ群：1087149380
A7: 理工学院 | B7: 2023 | C7: 公共课 | D7: [11333001]高等数学I | E7: 2023-2024学年第一学期 | F7: 3 | G7: 1 | H7: 重新学习 | I7: 辅导 | J7: 宋建军 | K7: 9月18日7-8节 | L7: D405 | M7: 2 | N7: QQ群：766201232
A8: 理工学院 | B8: 2023 | C8: 公共课 | D8: [28305001]高等数学 | E8: 2023-2024学年第一学期 | F8: 3 | G8: 3 | H8: 重新学习 | I8: 辅导 | J8: 袁丽娟 | K8: 9月22日7-8节 | L8: D412 | M8: 2 | N8: QQ群：878361780
A9: 马克思主义学院 | B9: 2023 | C9: 公共课 | D9: [133913]思想道德与法治 | E9: 2023-2024学年第一学期 | F9: 3 | G9: 1 | H9: 重新学习 | I9: 辅导 | J9: 王炜 | K9: 9月20日3-4节 | L9: D401 | M9: 2 | N9: QQ：349289499
A10: 马克思主义学院 | B10: 2023 | C10: 公共课 | D10: [133951]中国近现代史纲要 | E10: 2024-2025学年第一学期 | F10: 3 | G10: 15 | H10: 重新学习 | I10: 辅导 | J10: 苏芯 | K10: 9月21日第5-6节和9月22日5-10节 | L10: D203；D304 | M10: 8 | N10: QQ1105432994
A11: 体育与大健康学院 | B11: 2023 | C11: 公共课 | D11: [193911]体育Ⅰ | E11: 2023-2024学年第一学期 | F11: 1 | G11: 2 | H11: 重新学习 | I11: 辅导 | J11: 李庞宏 | K11: 9月21日3-4节 | L11: 田径场 | M11: 1 | N11: QQ号：860867477 ；手机号：17396220096
A12: 体育与大健康学院 | B12: 2023 | C12: 公共课 | D12: [193932]体育Ⅲ（乒乓球） | E12: 2023-2024学年第一学期 | F12: 1 | G12: 1 | H12: 重新学习 | I12: 辅导 | J12: 刘宇航 | K12: 9.21日3-4节 | L12: 体育馆 | M12: 1
A13: 体育与大健康学院 | B13: 2023 | C13: 公共课 | D13: [193937]体育Ⅲ（保健） | E13: 2024-2025学年第一学期 | F13: 1 | G13: 1 | H13: 重新学习 | I13: 辅导 | J13: 干丽 | K13: 9月23日5-6节 | L13: 体育馆304 | M13: 1 | N13: QQ：452275198
A14: 体育与大健康学院 | B14: 2023 | C14: 公共课 | D14: [193939]体育Ⅲ（跆拳道） | E14: 2024-2025学年第一学期 | F14: 2 | G14: 1 | H14: 重新学习 | I14: 辅导 | J14: 董皓铧 | K14: 9月24日7-8节 | L14: 体育馆 | M14: 1 | N14: 电话：13550098949 QQ：76261555
A15: 体育与大健康学院 | B15: 2023 | C15: 公共课 | D15: [193956]体育Ⅲ(高尔夫球) | E15: 2024-2025学年第一学期 | F15: 1 | G15: 2 | H15: 重新学习 | I15: 辅导 | J15: 王东 | K15: 9月22日3-4节 | L15: 高尔夫球场 | M15: 1 | N15: 18982111943
A16: 文学院 | B16: 2023 | C16: 公共课 | D16: [143919]大学日语Ⅰ | E16: 2022-2023学年第一学期 | F16: 3 | G16: 1 | H16: 重新学习 | I16: 辅导 | J16: 郭静楠 | K16: 9月24日3-4节 | L16: A513 | M16: 2 | N16: 重修QQ群：904827952，老师QQ号：18314600
A17: 文学院 | B17: 2023 | C17: 公共课 | D17: [143937]大学外语Ⅲ（英语 艺术本科） | E17: 2024-2025学年第一学期 | F17: 3 | G17: 2 | H17: 重新学习 | I17: 辅导 | J17: 廖梦婷 | K17: 9月18日1-2节 | L17: D401 | M17: 2
A18: 文学院 | B18: 2023 | C18: 公共课 | D18: [143938]大学外语Ⅲ（英语 普通本科） | E18: 2024-2025学年第一学期 | F18: 3 | G18: 8 | H18: 重新学习 | I18: 辅导 | J18: 罗芮 | K18: 9月18日1-8节 | L18: D413 | M18: 8 | N18: qq：862747677 手机号：13689607005
A19: 文学院 | B19: 2023 | C19: 公共课 | D19: [143939]大学日语Ⅲ | E19: 2024-2025学年第一学期 | F19: 3 | G19: 2 | H19: 重新学习 | I19: 辅导 | J19: 郭静楠 | K19: 9月24日5-6节 | L19: A513 | M19: 2 | N19: 重修QQ群：904827952，老师QQ号：18314600
A20: 文学院 | B20: 2023 | C20: 公共课 | D20: [143955]大学外语Ⅰ（英语 艺体本科） | E20: 2023-2024学年第一学期 | F20: 3 | G20: 11 | H20: 重新学习 | I20: 辅导 | J20: 陈渊媛 | K20: 9月18日5-12节 | L20: D304 | M20: 8 | N20: qq：979372386 手机号：13688308114
A21: 文学院 | B21: 2023 | C21: 公共课 | D21: [143970]大学外语Ⅲ（英语 艺体本科） | E21: 2024-2025学年第一学期 | F21: 3 | G21: 13 | H21: 重新学习 | I21: 辅导 | J21: 廖梦婷 | K21: 9月21日1-8节 | L21: D301 | M21: 8

Sheet 考试安排
A1: 承担单位 | B1: 年级 | C1: 专业 | D1: 课程环节 | E1: 学年学期 | F1: 学分 | G1: 人数 | H1: 类型 | I1: 考试时间 | J1: 考试地点 | K1: 部门 | L1: 监考老师一 | M1: 部门 | N1: 监考老师二 | O1: 考务
A2: 理工学院 | B2: 2023 | C2: 公共课 | D2: [30301035]经济数学Ⅰ | E2: 2023-2024学年第一学期 | F2: 2.0 | G2: 2 | H2: 重新学习
A3: 理工学院 | B3: 2023 | C3: 公共课 | D3: [17302030]高等数学I | E3: 2022-2023学年第一学期 | F3: 3.0 | G3: 1 | H3: 重新学习
A4: 理工学院 | B4: 2023 | C4: 公共课 | D4: [17322030]高等数学I | E4: 2023-2024学年第一学期 | F4: 3.0 | G4: 1 | H4: 重新学习
A5: 理工学院 | B5: 2023 | C5: 公共课 | D5: [17323030]高等数学I | E5: 2022-2023学年第一学期 | F5: 3.0 | G5: 2 | H5: 重新学习
A6: 理工学院 | B6: 2023 | C6: 公共课 | D6: [11301039]经济数学I | E6: 2023-2024学年第一学期 | F6: 4.0 | G6: 4 | H6: 重新学习
A7: 理工学院 | B7: 2023 | C7: 公共课 | D7: [11333001]高等数学I | E7: 2023-2024学年第一学期 | F7: 3.0 | G7: 1 | H7: 重新学习
A8: 理工学院 | B8: 2023 | C8: 公共课 | D8: [28305001]高等数学 | E8: 2023-2024学年第一学期 | F8: 3.0 | G8: 3 | H8: 重新学习
A9: 马克思主义学院 | B9: 2023 | C9: 公共课 | D9: [133913]思想道德与法治 | E9: 2023-2024学年第一学期 | F9: 3.0 | G9: 1 | H9: 重新学习
A10: 马克思主义学院 | B10: 2023 | C10: 公共课 | D10: [133951]中国近现代史纲要 | E10: 2024-2025学年第一学期 | F10: 3.0 | G10: 15 | H10: 重新学习
A11: 体育与大健康学院 | B11: 2023 | C11: 公共课 | D11: [193911]体育Ⅰ | E11: 2023-2024学年第一学期 | F11: 1.0 | G11: 2 | H11: 重新学习
A12: 体育与大健康学院 | B12: 2023 | C12: 公共课 | D12: [193932]体育Ⅲ（乒乓球） | E12: 2023-2024学年第一学期 | F12: 1.0 | G12: 1 | H12: 重新学习
A13: 体育与大健康学院 | B13: 2023 | C13: 公共课 | D13: [193937]体育Ⅲ（保健） | E13: 2024-2025学年第一学期 | F13: 1.0 | G13: 1 | H13: 重新学习
A14: 体育与大健康学院 | B14: 2023 | C14: 公共课 | D14: [193939]体育Ⅲ（跆拳道） | E14: 2024-2025学年第一学期 | F14: 2.0 | G14: 1 | H14: 重新学习
A15: 体育与大健康学院 | B15: 2023 | C15: 公共课 | D15: [193956]体育Ⅲ(高尔夫球) | E15: 2024-2025学年第一学期 | F15: 1.0 | G15: 2 | H15: 重新学习
A16: 文学院 | B16: 2023 | C16: 公共课 | D16: [143919]大学日语Ⅰ | E16: 2022-2023学年第一学期 | F16: 3.0 | G16: 1 | H16: 重新学习
A17: 文学院 | B17: 2023 | C17: 公共课 | D17: [143937]大学外语Ⅲ（英语 艺术本科） | E17: 2024-2025学年第一学期 | F17: 3.0 | G17: 2 | H17: 重新学习
A18: 文学院 | B18: 2023 | C18: 公共课 | D18: [143938]大学外语Ⅲ（英语 普通本科） | E18: 2024-2025学年第一学期 | F18: 3.0 | G18: 8 | H18: 重新学习
A19: 文学院 | B19: 2023 | C19: 公共课 | D19: [143939]大学日语Ⅲ | E19: 2024-2025学年第一学期 | F19: 3.0 | G19: 2 | H19: 重新学习
A20: 文学院 | B20: 2023 | C20: 公共课 | D20: [143955]大学外语Ⅰ（英语 艺体本科） | E20: 2023-2024学年第一学期 | F20: 3.0 | G20: 11 | H20: 重新学习
A21: 文学院 | B21: 2023 | C21: 公共课 | D21: [143970]大学外语Ⅲ（英语 艺体本科） | E21: 2024-2025学年第一学期 | F21: 3.0 | G21: 13 | H21: 重新学习

Sheet 签到册
A1: 学院 | B1: 行政班级 | C1: 学号 | D1: 姓名 | E1: 课程环节 | F1: 类型 | G1: 考试时间 | H1: 考试地点 | I1: 考生签到 | J1: 平时成绩 | K1: 卷面成绩 | L1: 综合成绩 | M1: 阅卷老师
A2: 会计学院 | B2: 2023会计学8 | C2: 221040150701 | D2: 任颖 | E2: [30301035]经济数学Ⅰ | F2: 重新学习 | G2: =VLOOKUP(E2,考试安排!D:I,6,0) -> 0 | H2: =VLOOKUP(E2,考试安排!D:J,7,0) -> 0
A3: 会计学院 | B3: 2023会计学8 | C3: 231040150706 | D3: 张扬 | E3: [30301035]经济数学Ⅰ | F3: 重新学习 | G3: =VLOOKUP(E3,考试安排!D:I,6,0) -> 0 | H3: =VLOOKUP(E3,考试安排!D:J,7,0) -> 0
A4: 传媒与演艺学院 | B4: 2023播音与主持艺术4 | C4: 231100450429 | D4: 聂宇佳 | E4: [133951]中国近现代史纲要 | F4: 重新学习 | G4: =VLOOKUP(E4,考试安排!D:I,6,0) -> 0 | H4: =VLOOKUP(E4,考试安排!D:J,7,0) -> 0
A5: 传媒与演艺学院 | B5: 2023播音与主持艺术4 | C5: 231100450432 | D5: 张艺静 | E5: [133951]中国近现代史纲要 | F5: 重新学习 | G5: =VLOOKUP(E5,考试安排!D:I,6,0) -> 0 | H5: =VLOOKUP(E5,考试安排!D:J,7,0) -> 0
A6: 传媒与演艺学院 | B6: 2023播音与主持艺术7 | C6: 221100450416 | D6: 陈乙维 | E6: [133951]中国近现代史纲要 | F6: 重新学习 | G6: =VLOOKUP(E6,考试安排!D:I,6,0) -> 0 | H6: =VLOOKUP(E6,考试安排!D:J,7,0) -> 0
A7: 传媒与演艺学院 | B7: 2023播音与主持艺术9 | C7: 231100450910 | D7: 付强 | E7: [133951]中国近现代史纲要 | F7: 重新学习 | G7: =VLOOKUP(E7,考试安排!D:I,6,0) -> 0 | H7: =VLOOKUP(E7,考试安排!D:J,7,0) -> 0
A8: 传媒与演艺学院 | B8: 2023播音与主持艺术9 | C8: 231100450911 | D8: 左航沅 | E8: [133951]中国近现代史纲要 | F8: 重新学习 | G8: =VLOOKUP(E8,考试安排!D:I,6,0) -> 0 | H8: =VLOOKUP(E8,考试安排!D:J,7,0) -> 0
A9: 传媒与演艺学院 | B9: 2023表演3 | C9: 231100250307 | D9: 刘秉昕 | E9: [133951]中国近现代史纲要 | F9: 重新学习 | G9: =VLOOKUP(E9,考试安排!D:I,6,0) -> 0 | H9: =VLOOKUP(E9,考试安排!D:J,7,0) -> 0
A10: 传媒与演艺学院 | B10: 2023表演5 | C10: 221100250407 | D10: 范泽彬 | E10: [133951]中国近现代史纲要 | F10: 重新学习 | G10: =VLOOKUP(E10,考试安排!D:I,6,0) -> 0 | H10: =VLOOKUP(E10,考试安排!D:J,7,0) -> 0
A11: 传媒与演艺学院 | B11: 2023表演5 | C11: 231100250502 | D11: 黄永豪 | E11: [133951]中国近现代史纲要 | F11: 重新学习 | G11: =VLOOKUP(E11,考试安排!D:I,6,0) -> 0 | H11: =VLOOKUP(E11,考试安排!D:J,7,0) -> 0
A12: 传媒与演艺学院 | B12: 2023表演6 | C12: 231100250607 | D12: 许永杰 | E12: [133951]中国近现代史纲要 | F12: 重新学习 | G12: =VLOOKUP(E12,考试安排!D:I,6,0) -> 0 | H12: =VLOOKUP(E12,考试安排!D:J,7,0) -> 0
A13: 传媒与演艺学院 | B13: 2023表演7 | C13: 231100250716 | D13: 王旖晨 | E13: [133951]中国近现代史纲要 | F13: 重新学习 | G13: =VLOOKUP(E13,考试安排!D:I,6,0) -> 0 | H13: =VLOOKUP(E13,考试安排!D:J,7,0) -> 0
... A75: 艺术设计与城市更新学院 | B75: 2023工程造价1 | C75: 231090350121 | D75: 王元鹏 | E75: [28305001]高等数学 | F75: 重新学习 | G75: =VLOOKUP(E75,考试安排!D:I,6,0) -> 0 | H75: =VLOOKUP(E75,考试安排!D:J,7,0) -> 0

Sheet Sheet5
A1: 学号 | B1: 姓名 | C1: 课程环节 | G1: 学号 | H1: 姓名
A2: 221040150701 | B2: 任颖 | C2: [30301035]经济数学Ⅰ | G2: 231100350130 | H2: 付子瑞 | I2: =COUNTIF(A:A,G:G) -> 5
A3: 231040150706 | B3: 张扬 | C3: [30301035]经济数学Ⅰ | G3: 221100250407 | H3: 范泽彬 | I3: =COUNTIF(A:A,G:G) -> 3
A4: 231100450429 | B4: 聂宇佳 | C4: [133951]中国近现代史纲要 | G4: 221100450416 | H4: 陈乙维 | I4: =COUNTIF(A:A,G:G) -> 2
A5: 231100450432 | B5: 张艺静 | C5: [133951]中国近现代史纲要 | G5: 231100250810 | H5: 向翊骋 | I5: =COUNTIF(A:A,G:G) -> 2
A6: 221100450416 | B6: 陈乙维 | C6: [133951]中国近现代史纲要 | G6: 231100450826 | H6: 武正含 | I6: =COUNTIF(A:A,G:G) -> 2
A7: 231100450910 | B7: 付强 | C7: [133951]中国近现代史纲要 | G7: 231100350309 | H7: 吴翊璇 | I7: =COUNTIF(A:A,G:G) -> 2
A8: 231100450911 | B8: 左航沅 | C8: [133951]中国近现代史纲要 | G8: 221100251111 | H8: 托尔洪·吐尔地 | I8: =COUNTIF(A:A,G:G) -> 2
A9: 231100250307 | B9: 刘秉昕 | C9: [133951]中国近现代史纲要 | G9: 231100450104 | H9: 周胜 | I9: =COUNTIF(A:A,G:G) -> 2
A10: 221100250407 | B10: 范泽彬 | C10: [133951]中国近现代史纲要 | G10: 231100450601 | H10: 谢方伦 | I10: =COUNTIF(A:A,G:G) -> 2
A11: 231100250502 | B11: 黄永豪 | C11: [133951]中国近现代史纲要 | G11: 221040150701 | H11: 任颖 | I11: =COUNTIF(A:A,G:G) -> 1
A12: 231100250607 | B12: 许永杰 | C12: [133951]中国近现代史纲要 | G12: 231040150706 | H12: 张扬 | I12: =COUNTIF(A:A,G:G) -> 1
A13: 231100250716 | B13: 王旖晨 | C13: [133951]中国近现代史纲要 | G13: 231100450429 | H13: 聂宇佳 | I13: =COUNTIF(A:A,G:G) -> 1
... A62: 231100350130 | B62: 付子瑞 | C62: [143937]大学外语Ⅲ（英语 艺术本科） | G62: 231090350121 | H62: 王元鹏 | I62: =COUNTIF(A:A,G:G) -> 1
A63: 231040150407 | B63: 王堉鑫 | C63: [143938]大学外语Ⅲ（英语 普通本科）
A64: 211090350303 | B64: 丁雨欣 | C64: [143937]大学外语Ⅲ（英语 艺术本科）
A65: 231080350408 | B65: 陈耀 | C65: [143955]大学外语Ⅰ（英语 艺体本科）
A66: 231080250107 | B66: 林志鸿 | C66: [143938]大学外语Ⅲ（英语 普通本科）
A67: 231060450110 | B67: 彭涛 | C67: [143938]大学外语Ⅲ（英语 普通本科）
A68: 231060450121 | B68: 阿西阿木 | C68: [143938]大学外语Ⅲ（英语 普通本科）
A69: 231060150615 | B69: 权俊锋 | C69: [143938]大学外语Ⅲ（英语 普通本科）
A70: 231060150709 | B70: 尹哲浩 | C70: [143938]大学外语Ⅲ（英语 普通本科）
A71: 231060150810 | B71: 侯利森 | C71: [143938]大学外语Ⅲ（英语 普通本科）
A72: 221090150134 | B72: 蒋巍 | C72: [143938]大学外语Ⅲ（英语 普通本科）
A73: 231090350102 | B73: 龚博壡 | C73: [28305001]高等数学
A74: 231090350120 | B74: 熊福州 | C74: [28305001]高等数学
A75: 231090350121 | B75: 王元鹏 | C75: [28305001]高等数学
