Workbook

Sheet 名单
A1: 承担单位 | B1: 院(系)部 | C1: 年级 | D1: 专业 | E1: 行政班级 | F1: 学号 | G1: 姓名 | H1: 课程环节 | I1: 课程类型 | J1: 学分 | K1: 学年学期 | L1: 报名
A2: 马克思主义学院 | B2: 传媒与演艺学院 | C2: 2024 | D2: 播音与主持(专) | E2: 2024播音与主持(专)5 | F2: 231110560306 | G2: 张思颖 | H2: [13671123]形势与政策 | I2: 公共课 | K2: 2025-2026学年第一学期 | L2: 复学手动报名
A3: 马克思主义学院 | B3: 传媒与演艺学院 | C3: 2024 | D3: 播音与主持 | E3: 2024播音与主持(专)2 | F3: 241110560209 | G3: 卿晨 | H3: 形势与政策 | I3: 公共课 | K3: 2026-2027学年第一学期 | L3: 已报名
A4: 马克思主义学院 | B4: 传媒与演艺学院 | C4: 2024 | D4: 播音与主持 | E4: 2024播音与主持(专)2 | F4: 241110560228 | G4: 张佳宁 | H4: 形势与政策 | I4: 公共课 | K4: 2026-2027学年第一学期 | L4: 已报名
A5: 马克思主义学院 | B5: 传媒与演艺学院 | C5: 2024 | D5: 播音与主持 | E5: 2024播音与主持(专)2 | F5: 241110560234 | G5: 杨棕翔 | H5: 形势与政策 | I5: 公共课 | K5: 2026-2027学年第一学期 | L5: 已报名
A6: 马克思主义学院 | B6: 传媒与演艺学院 | C6: 2024 | D6: 播音与主持 | E6: 2024播音与主持(专)5 | F6: 221110560107 | G6: 吕易苍 | H6: 形势与政策 | I6: 公共课 | K6: 2026-2027学年第一学期 | L6: 已报名
A7: 马克思主义学院 | B7: 传媒与演艺学院 | C7: 2024 | D7: 舞蹈表演 | E7: 2024舞蹈表演(专)2 | F7: 221110660126 | G7: 叶倩 | H7: 形势与政策 | I7: 公共课 | K7: 2026-2027学年第一学期 | L7: 已报名
A8: 马克思主义学院 | B8: 传媒与演艺学院 | C8: 2024 | D8: 音乐表演 | E8: 2024音乐表演(专)1 | F8: 231110760104 | G8: 康卓 | H8: 形势与政策 | I8: 公共课 | K8: 2026-2027学年第一学期 | L8: 已报名
A9: 马克思主义学院 | B9: 传媒与演艺学院 | C9: 2024 | D9: 音乐表演 | E9: 2024音乐表演(专)1 | F9: 241110760105 | G9: 左麟义 | H9: 形势与政策 | I9: 公共课 | K9: 2026-2027学年第一学期 | L9: 已报名
A10: 马克思主义学院 | B10: 传媒与演艺学院 | C10: 2024 | D10: 音乐表演 | E10: 2024音乐表演(专)2 | F10: 221110760229 | G10: 谌旺江 | H10: 形势与政策 | I10: 公共课 | K10: 2026-2027学年第一学期 | L10: 已报名
A11: 马克思主义学院 | B11: 传媒与演艺学院 | C11: 2024 | D11: 音乐表演 | E11: 2024音乐表演(专)2 | F11: 231110760213 | G11: 彭佳昱 | H11: 形势与政策 | I11: 公共课 | K11: 2026-2027学年第一学期 | L11: 已报名
A12: 马克思主义学院 | B12: 传媒与演艺学院 | C12: 2024 | D12: 音乐表演 | E12: 2024音乐表演(专)2 | F12: 241110760225 | G12: 罗梓豪 | H12: 形势与政策 | I12: 公共课 | K12: 2026-2027学年第一学期 | L12: 已报名
A13: 马克思主义学院 | B13: 会计学院 | C13: 2024 | D13: 大数据与会计 | E13: 2024大数据与会计(专)4 | F13: 241040560424 | G13: 张昕怡 | H13: 形势与政策 | I13: 公共课 | K13: 2026-2027学年第一学期 | L13: 已报名
A14: 马克思主义学院 | B14: 会计学院 | C14: 2024 | D14: 大数据与会计 | E14: 2024大数据与会计(专)5 | F14: 231040560313 | G14: 比曲色轨 | H14: 形势与政策 | I14: 公共课 | K14: 2026-2027学年第一学期 | L14: 已报名
... A44: 马克思主义学院 | B44: 艺术设计与城市更新学院 | C44: 2024 | D44: 建设工程管理 | E44: 2024建设工程管理(专)2 | F44: 241090460237 | G44: 彭柯然 | H44: 形势与政策 | I44: 公共课 | K44: 2026-2027学年第一学期 | L44: 已报名
A45: 数智经济与管理学院 | B45: 人工智能与大数据学院 | C45: 2024 | D45: 计算机应用技术(专) | E45: 2024计算机应用技术(专)1 | F45: 221060560437 | G45: 李昊宇 | H45: [112902]高等数学Ⅱ | I45: 公共课 | J45: 4.0 | K45: 2025-2026学年第二学期 | L45: 已报名
A46: 数智经济与管理学院 | B46: 人工智能与大数据学院 | C46: 2024 | D46: 计算机应用技术(专) | E46: 2024计算机应用技术(专)1 | F46: 241060560102 | G46: 李语蕊 | H46: [112902]高等数学Ⅱ | I46: 公共课 | J46: 4.0 | K46: 2025-2026学年第二学期 | L46: 已报名
A47: 数智经济与管理学院 | B47: 人工智能与大数据学院 | C47: 2024 | D47: 计算机应用技术(专) | E47: 2024计算机应用技术(专)1 | F47: 241060560104 | G47: 杨蕊 | H47: [112902]高等数学Ⅱ | I47: 公共课 | J47: 4.0 | K47: 2025-2026学年第二学期 | L47: 已报名
A48: 数智经济与管理学院 | B48: 人工智能与大数据学院 | C48: 2024 | D48: 计算机应用技术(专) | E48: 2024计算机应用技术(专)1 | F48: 241060560107 | G48: 王怡 | H48: [112902]高等数学Ⅱ | I48: 公共课 | J48: 4.0 | K48: 2025-2026学年第二学期 | L48: 已报名
A49: 数智经济与管理学院 | B49: 人工智能与大数据学院 | C49: 2024 | D49: 计算机应用技术(专) | E49: 2024计算机应用技术(专)1 | F49: 241060560110 | G49: 苗国洋 | H49: [112902]高等数学Ⅱ | I49: 公共课 | J49: 4.0 | K49: 2025-2026学年第二学期 | L49: 已报名
A50: 数智经济与管理学院 | B50: 人工智能与大数据学院 | C50: 2024 | D50: 计算机应用技术(专) | E50: 2024计算机应用技术(专)1 | F50: 241060560112 | G50: 陈家顺 | H50: [112902]高等数学Ⅱ | I50: 公共课 | J50: 4.0 | K50: 2025-2026学年第二学期 | L50: 已报名
A51: 数智经济与管理学院 | B51: 人工智能与大数据学院 | C51: 2024 | D51: 计算机应用技术(专) | E51: 2024计算机应用技术(专)1 | F51: 241060560115 | G51: 杨金书 | H51: [112902]高等数学Ⅱ | I51: 公共课 | J51: 4.0 | K51: 2025-2026学年第二学期 | L51: 已报名
A52: 数智经济与管理学院 | B52: 人工智能与大数据学院 | C52: 2024 | D52: 计算机应用技术(专) | E52: 2024计算机应用技术(专)1 | F52: 241060560120 | G52: 李豪 | H52: [112902]高等数学Ⅱ | I52: 公共课 | J52: 4.0 | K52: 2025-2026学年第二学期 | L52: 已报名
A53: 数智经济与管理学院 | B53: 人工智能与大数据学院 | C53: 2024 | D53: 计算机应用技术(专) | E53: 2024计算机应用技术(专)1 | F53: 241060560122 | G53: 蒋翰辉 | H53: [112902]高等数学Ⅱ | I53: 公共课 | J53: 4.0 | K53: 2025-2026学年第二学期 | L53: 已报名
A54: 数智经济与管理学院 | B54: 人工智能与大数据学院 | C54: 2024 | D54: 计算机应用技术(专) | E54: 2024计算机应用技术(专)1 | F54: 241060560124 | G54: 曾语衡 | H54: [112902]高等数学Ⅱ | I54: 公共课 | J54: 4.0 | K54: 2025-2026学年第二学期 | L54: 已报名
A55: 数智经济与管理学院 | B55: 人工智能与大数据学院 | C55: 2024 | D55: 计算机应用技术(专) | E55: 2024计算机应用技术(专)1 | F55: 241060560128 | G55: 李咏金 | H55: [112902]高等数学Ⅱ | I55: 公共课 | J55: 4.0 | K55: 2025-2026学年第二学期 | L55: 已报名
A56: 数智经济与管理学院 | B56: 人工智能与大数据学院 | C56: 2024 | D56: 计算机应用技术(专) | E56: 2024计算机应用技术(专)1 | F56: 241060560129 | G56: 李涛涛 | H56: [112902]高等数学Ⅱ | I56: 公共课 | J56: 4.0 | K56: 2025-2026学年第二学期 | L56: 已报名
... A198: 素质教育中心 | B198: 传媒与演艺学院 | C198: 2024 | D198: 音乐表演（专） | E198: 2024音乐表演(专)1 | F198: 231110760104 | G198: 康卓 | H198: [080051]大学生职业素养与人生规划Ⅴ | I198: 公共课 | J198: 0.5 | K198: 2026-2027学年第一学期 | L198: 已报名
A199: 素质教育中心 | B199: 传媒与演艺学院 | C199: 2024 | D199: 播音与主持(专) | E199: 2024播音与主持(专)5 | F199: 231110560306 | G199: 张思颖 | H199: [080051]大学生职业素养与人生规划Ⅴ | I199: 公共课 | J199: 0.5 | K199: 2025-2026学年第一学期 | L199: 复学手动报名
A200: 素质教育中心 | B200: 传媒与演艺学院 | C200: 2024 | D200: 播音与主持(专) | E200: 2024播音与主持(专)2 | F200: 241110560234 | G200: 杨棕翔 | H200: [080054]大学生科学技术通论 | I200: 公共课 | J200: 2.0 | K200: 2025-2026学年第二学期 | L200: 已报名
A201: 素质教育中心 | B201: 传媒与演艺学院 | C201: 2024 | D201: 音乐表演（专） | E201: 2024音乐表演(专)1 | F201: 231110760104 | G201: 康卓 | H201: [080054]大学生科学技术通论 | I201: 公共课 | J201: 2.0 | K201: 2025-2026学年第二学期 | L201: 已报名
A202: 素质教育中心 | B202: 人工智能与大数据学院 | C202: 2024 | D202: 计算机应用技术(专) | E202: 2024计算机应用技术(专)8 | F202: 241060560805 | G202: 灌福翔 | H202: [080044]大学生职业素养与人生规划Ⅳ | I202: 公共课 | J202: 0.5 | K202: 2025-2026学年第二学期 | L202: 已报名
A203: 素质教育中心 | B203: 人工智能与大数据学院 | C203: 2024 | D203: 计算机应用技术(专) | E203: 2024计算机应用技术(专)8 | F203: 241060560805 | G203: 灌福翔 | H203: [080051]大学生职业素养与人生规划Ⅴ | I203: 公共课 | J203: 0.5 | K203: 2026-2027学年第一学期 | L203: 已报名
A204: 素质教育中心 | B204: 人工智能与大数据学院 | C204: 2024 | D204: 计算机应用技术(专) | E204: 2024计算机应用技术(专)5 | F204: 241060560528 | G204: 郑斯引 | H204: [080054]大学生科学技术通论 | I204: 公共课 | J204: 2.0 | K204: 2025-2026学年第二学期 | L204: 已报名
A205: 素质教育中心 | B205: 人工智能与大数据学院 | C205: 2024 | D205: 计算机应用技术(专) | E205: 2024计算机应用技术(专)8 | F205: 241060560805 | G205: 灌福翔 | H205: [080054]大学生科学技术通论 | I205: 公共课 | J205: 2.0 | K205: 2025-2026学年第二学期 | L205: 已报名
A206: 素质教育中心 | B206: 人工智能与大数据学院 | C206: 2024 | D206: 计算机应用技术(专) | E206: 2024计算机应用技术(专)9 | F206: 231060560636 | G206: 李林涛 | H206: [080054]大学生科学技术通论 | I206: 公共课 | J206: 2.0 | K206: 2025-2026学年第二学期 | L206: 已报名
A207: 素质教育中心 | B207: 人工智能与大数据学院 | C207: 2024 | D207: 数字媒体技术(专) | E207: 2024数字媒体技术(专)6 | F207: 241060860621 | G207: 曹岚楠 | H207: [080054]大学生科学技术通论 | I207: 公共课 | J207: 2.0 | K207: 2025-2026学年第二学期 | L207: 已报名
A208: 素质教育中心 | B208: 人工智能与大数据学院 | C208: 2024 | D208: 信息安全技术应用(专) | E208: 2024信息安全技术应用(专)1 | F208: 241090460215 | G208: 杜杰康 | H208: [080054]大学生科学技术通论 | I208: 公共课 | J208: 2.0 | K208: 2025-2026学年第二学期 | L208: 已报名
A209: 素质教育中心 | B209: 文学院 | C209: 2024 | D209: 中文(专) | E209: 2024中文(专)3 | F209: 241010460303 | G209: 王玉鹏 | H209: [080054]大学生科学技术通论 | I209: 公共课 | J209: 2.0 | K209: 2025-2026学年第二学期 | L209: 已报名
A210: 文学院 | B210: 传媒与演艺学院 | C210: 2024 | D210: 播音与主持(专) | E210: 2024播音与主持(专)1 | F210: 241110560107 | G210: 宋治宏 | H210: [142945]大学外语Ⅳ（英语 艺体专科） | I210: 公共课 | J210: 3.0 | K210: 2025-2026学年第二学期 | L210: 已报名
A211: 文学院 | B211: 传媒与演艺学院 | C211: 2024 | D211: 播音与主持(专) | E211: 2024播音与主持(专)2 | F211: 241110560234 | G211: 杨棕翔 | H211: [142945]大学外语Ⅳ（英语 艺体专科） | I211: 公共课 | J211: 3.0 | K211: 2025-2026学年第二学期 | L211: 已报名
... A245: 文学院 | B245: 艺术设计与城市更新学院 | C245: 2024 | D245: 动漫设计（专） | E245: 2024动漫设计(专)3 | F245: 231021060130 | G245: 陈青云 | H245: [142945]大学外语Ⅳ（英语 艺体专科） | I245: 公共课 | J245: 3.0 | K245: 2025-2026学年第二学期 | L245: 已报名
A246: 文学院 | B246: 艺术设计与城市更新学院 | C246: 2024 | D246: 动漫设计（专） | E246: 2024动漫设计(专)3 | F246: 231020960129 | G246: 华一鸣 | H246: [142945]大学外语Ⅳ（英语 艺体专科） | I246: 公共课 | J246: 3.0 | K246: 2024-2025学年第二学期 | L246: 复学手动报名
A247: 文学院 | B247: 艺术设计与城市更新学院 | C247: 2024 | D247: 动漫设计（专） | E247: 2024动漫设计(专)3 | F247: 241021060325 | G247: 严文宇 | H247: [142945]大学外语Ⅳ（英语 艺体专科） | I247: 公共课 | J247: 3.0 | K247: 2025-2026学年第二学期 | L247: 补报名
A248: 素质教育中心 | B248: 艺术设计与城市更新学院 | C248: 2024 | D248: 环境艺术设计(专) | E248: 2024环境艺术设计(专)3 | F248: 231020960214 | G248: 李宣慧 | H248: [080054]大学生科学技术通论 | I248: 公共课 | J248: 2.0 | K248: 2025-2026学年第二学期 | L248: 补报名
A249: 素质教育中心 | B249: 艺术设计与城市更新学院 | C249: 2024 | D249: 环境艺术设计(专) | E249: 2024环境艺术设计(专)5 | F249: 241020960523 | G249: 李好 | H249: [080054]大学生科学技术通论 | I249: 公共课 | J249: 2.0 | K249: 2025-2026学年第二学期 | L249: 补报名
A250: 文学院 | B250: 艺术设计与城市更新学院 | C250: 2024 | D250: 广告艺术设计(专) | E250: 2024广告艺术设计(专)1 | F250: 241020860107 | G250: 王全豪 | H250: [142945]大学外语Ⅳ（英语 艺体专科） | I250: 公共课 | J250: 3.0 | K250: 2025-2026学年第二学期 | L250: 补报名
A251: 文学院 | B251: 艺术设计与城市更新学院 | C251: 2024 | D251: 广告艺术设计(专) | E251: 2024广告艺术设计(专)2 | F251: 19206713 | G251: 罗木伞 | H251: [142945]大学外语Ⅳ（英语 艺体专科） | I251: 公共课 | J251: 3.0 | K251: 2025-2026学年第二学期 | L251: 补报名
A252: 文学院 | B252: 艺术设计与城市更新学院 | C252: 2024 | D252: 广告艺术设计(专) | E252: 2024广告艺术设计(专)2 | F252: 241020860203 | G252: 戴子轩 | H252: [142945]大学外语Ⅳ（英语 艺体专科） | I252: 公共课 | J252: 3.0 | K252: 2025-2026学年第二学期 | L252: 补报名
A253: 文学院 | B253: 艺术设计与城市更新学院 | C253: 2024 | D253: 广告艺术设计(专) | E253: 2024广告艺术设计(专)2 | F253: 241020860209 | G253: 胡婕 | H253: [142945]大学外语Ⅳ（英语 艺体专科） | I253: 公共课 | J253: 3.0 | K253: 2025-2026学年第二学期 | L253: 补报名
A254: 文学院 | B254: 艺术设计与城市更新学院 | C254: 2024 | D254: 广告艺术设计(专) | E254: 2024广告艺术设计(专)2 | F254: 241020860224 | G254: 郭斌羽 | H254: [142945]大学外语Ⅳ（英语 艺体专科） | I254: 公共课 | J254: 3.0 | K254: 2025-2026学年第二学期 | L254: 补报名
A255: 数智经济与管理学院 | B255: 艺术设计与城市更新学院 | C255: 2024 | D255: 建设工程管理(专) | E255: 2024建设工程管理(专)1 | F255: 231090460231 | G255: 朱志豪 | H255: [112902]高等数学Ⅱ | I255: 公共课 | J255: 4.0 | K255: 2025-2026学年第二学期 | L255: 补报名
A256: 数智经济与管理学院 | B256: 艺术设计与城市更新学院 | C256: 2024 | D256: 建设工程管理(专) | E256: 2024建设工程管理(专)1 | F256: 241090460134 | G256: 肖坤宇 | H256: [112902]高等数学Ⅱ | I256: 公共课 | J256: 4.0 | K256: 2025-2026学年第二学期 | L256: 补报名
A257: 数智经济与管理学院 | B257: 艺术设计与城市更新学院 | C257: 2024 | D257: 建设工程管理(专) | E257: 2024建设工程管理(专)2 | F257: 241090460209 | G257: 何承恩 | H257: [112902]高等数学Ⅱ | I257: 公共课 | J257: 4.0 | K257: 2025-2026学年第二学期 | L257: 补报名
A258: 数智经济与管理学院 | B258: 艺术设计与城市更新学院 | C258: 2024 | D258: 建设工程管理(专) | E258: 2024建设工程管理(专)2 | F258: 241090460224 | G258: 王瑶 | H258: [112902]高等数学Ⅱ | I258: 公共课 | J258: 4.0 | K258: 2025-2026学年第二学期 | L258: 补报名
... A321: 素质教育中心 | B321: 会计学院 | C321: 2024 | D321: 大数据与会计(专) | E321: 2024大数据与会计(专)1 | F321: 241040560110 | G321: 吕思妍 | H321: [080054]大学生科学技术通论 | I321: 公共课 | J321: 2.0 | K321: 2025-2026学年第二学期 | L321: 补报名
A322: 马克思主义学院 | B322: 传媒与演艺学院 | C322: 2024 | D322: 音乐表演 | E322: 2024音乐表演(专)1 | F322: 231110760110 | G322: 唐旗 | H322: 形势与政策 | I322: 公共课 | K322: 2026-2027学年第一学期 | L322: 补报名
A323: 马克思主义学院 | B323: 传媒与演艺学院 | C323: 2024 | D323: 音乐表演 | E323: 2024音乐表演(专)1 | F323: 241110760102 | G323: 侯永平 | H323: 形势与政策 | I323: 公共课 | K323: 2026-2027学年第一学期 | L323: 补报名
A324: 马克思主义学院 | B324: 会计学院 | C324: 2024 | D324: 大数据与会计 | E324: 2024大数据与会计(专)7 | F324: 241040560729 | G324: 张志国 | H324: 形势与政策 | I324: 公共课 | K324: 2026-2027学年第一学期 | L324: 补报名
A325: 马克思主义学院 | B325: 艺术设计与城市更新学院 | C325: 2024 | D325: 广告艺术设计(专) | E325: 2024广告艺术设计(专)1 | F325: 241020860101 | G325: 王裕 | H325: 形势与政策 | I325: 公共课 | K325: 2026-2027学年第一学期 | L325: 补报名
A326: 马克思主义学院 | B326: 艺术设计与城市更新学院 | C326: 2024 | D326: 广告艺术设计(专) | E326: 2024广告艺术设计(专)2 | F326: 231020860234 | G326: 刘雨欣 | H326: 形势与政策 | I326: 公共课 | K326: 2026-2027学年第一学期 | L326: 补报名
A327: 马克思主义学院 | B327: 艺术设计与城市更新学院 | C327: 2024 | D327: 环境艺术设计(专) | E327: 2024环境艺术设计(专)5 | F327: 241020960526 | G327: 陈廷兢 | H327: 形势与政策 | I327: 公共课 | K327: 2026-2027学年第一学期 | L327: 补报名
A328: 人工智能与大数据学院 | B328: 人工智能与大数据学院 | C328: 2024 | D328: 计算机应用技术(专) | E328: 2024计算机应用技术(专)2 | F328: 221060560133 | G328: 康书博 | H328: [112902]高等数学Ⅱ | I328: 公共课 | J328: 4 | K328: 2023-2024学年第二学期 | L328: 补报名

Sheet 上课安排
A1: 承担单位 | B1: 年级 | C1: 专业 | D1: 课程环节 | E1: 学年学期 | F1: 学分 | G1: 人数 | H1: 类别 | I1: 形式（开班/辅导/跟听） | J1: 任课老师 | K1: 上课时间（10月19-23日）线上授课 | L1: 上课地点 | M1: 课时量 | N1: 备注（重修班QQ群号/老师联系方式）
A2: 素质教育中心 | B2: 2024 | C2: 公共课 | D2: [080044]大学生职业素养与人生规划Ⅳ | E2: 2025-2026学年第二学期 | F2: 0.5 | G2: 5 | H2: 重新学习 | I2: 线上辅导 | J2: 徐杏 | K2: 10月19日晚第10-11节 | L2: QQ群课堂 | M2: 2 | N2: QQ群号：1078744701
A3: 素质教育中心 | B3: 2024 | C3: 公共课 | D3: [080051]大学生职业素养与人生规划Ⅴ | E3: 2025-2026学年第一学期 | F3: 0.5 | G3: 3 | H3: 重新学习 | I3: 线上辅导
A4: 素质教育中心 | B4: 2024 | C4: 公共课 | D4: [080054]大学生科学技术通论 | E4: 2025-2026学年第二学期 | F4: 2 | G4: 11 | H4: 重新学习 | I4: 线上辅导 | J4: 张琼 | K4: 10月20日晚10-12节，10月21日晚10-11节 | L4: 腾讯会议 | M4: 5 | N4: QQ群号：1083870999
A5: 文学院 | B5: 2024 | C5: 公共课 | D5: [142943]大学外语Ⅳ（英语 普通专科） | E5: 2025-2026学年第二学期 | F5: 3 | G5: 22 | H5: 重新学习 | I5: 线上辅导 | J5: 王琴 | K5: 10月19日1-8节 | L5: QQ群课堂 | M5: 8 | N5: QQ群号：876594343
A6: 文学院 | B6: 2024 | C6: 公共课 | D6: [142945]大学外语Ⅳ（英语 艺体专科） | E6: 2025-2026学年第二学期 | F6: 3 | G6: 29 | H6: 重新学习 | I6: 线上辅导 | J6: 王琴 | K6: 10月23日1-8节 | L6: QQ群课堂 | M6: 8 | N6: QQ群号：876594343
A7: 马克思主义学院 | B7: 2024 | C7: 公共课 | D7: [13671123]形势与政策 | E7: 2025-2026学年第一学期 | G7: 1 | H7: 重新学习 | I7: 线上辅导 | J7: 陈丽萍 | K7: 10月19-23日 | L7: 英华学堂 | M7: 1 | N7: QQ群号答疑1121086478
A8: 马克思主义学院 | B8: 2024 | C8: 公共课 | D8: 形势与政策 | E8: 2026-2027学年第一学期 | G8: 48 | H8: 重新学习 | I8: 线上辅导
A9: 理工学院 | B9: 2024 | C9: 公共课 | D9: [112902]高等数学Ⅱ | E9: 2025-2026学年第二学期 | F9: 4 | G9: 48人（2024云计算技术应用（专）、 信息安全技术应用（专）、 建设工程管理（专）、城乡规划（专）） | H9: 重新学习 | I9: 线上辅导 | J9: 宋建军 | K9: 10月20号1-4节，10月21号5-10节 | L9: QQ群课堂 | M9: 10 | N9: QQ群：766201232
A10: 理工学院 | B10: 2024 | C10: 公共课 | D10: [112902]高等数学Ⅱ | E10: 2025-2026学年第二学期 | F10: 4 | G10: 54人（2024护理（专）） | H10: 重新学习 | I10: 线上辅导 | J10: 吴莉华 | K10: 10月19日 1-8节，10月21日 10-11节 | L10: QQ群课堂 | M10: 10 | N10: qq号：852187501
A11: 理工学院 | B11: 2024 | C11: 公共课 | D11: [112902]高等数学Ⅱ | E11: 2025-2026学年第二学期 | F11: 4 | G11: 52人（2024数字媒体技术（专）、计算机应用技术（专）1-2班） | H11: 重新学习 | I11: 线上辅导 | J11: 黄知梅 | K11: 10月21日10-11节，10月22日1-8节 | L11: 腾讯会议 | M11: 10 | N11: 腾讯会议:136575514，qq群1128094620
A12: 理工学院 | B12: 2024 | C12: 公共课 | D12: [112902]高等数学Ⅱ | E12: 2025-2026学年第二学期 | F12: 4 | G12: 54人（计算机应用技术3-12班） | H12: 重新学习 | I12: 线上辅导 | J12: 夏嫦 | K12: 10月21日10-11节，10月23日1-8节 | L12: QQ群课堂 | M12: 10 | N12: QQ群号：837048368

Sheet 考试安排
A1: 承担单位 | B1: 年级 | C1: 专业 | D1: 课程环节 | E1: 学年学期 | F1: 学分 | G1: 人数 | H1: 类型 | I1: 考试时间 | J1: 考试地点 | K1: 部门 | L1: 监考老师一 | M1: 部门 | N1: 监考老师二 | O1: 考务
A2: 素质教育中心 | B2: 2024 | C2: 公共课 | D2: [080044]大学生职业素养与人生规划Ⅳ | E2: 2025-2026学年第二学期 | F2: 0.5 | G2: 5 | H2: 重新学习考试 | I2: 2026.10.23（周五）09:00-11:00 | J2: D301 | K2: 传媒与演艺学院 | L2: 缪佳栖 | M2: 体育与大健康学院 | N2: 胡林林 | O2: 吴其应
A3: 素质教育中心 | B3: 2024 | C3: 公共课 | D3: [080051]大学生职业素养与人生规划Ⅴ | E3: 2025-2026学年第一学期 | F3: 0.5 | G3: 3 | H3: 重新学习考试 | I3: 2026.10.23（周五）13:00-15:00 | J3: D404 | K3: 传媒与演艺学院 | L3: 缪佳栖 | M3: 体育与大健康学院 | N3: 张媛媛 | O3: 李尔康
A4: 素质教育中心 | B4: 2024 | C4: 公共课 | D4: [080054]大学生科学技术通论 | E4: 2025-2026学年第二学期 | F4: 2 | G4: 11 | H4: 重新学习考试 | I4: 2026.10.23（周五）15:20-17:20 | J4: D401 | K4: 传媒与演艺学院 | L4: 缪佳栖 | M4: 教育学院 | N4: 舒鑫宇 | O4: 王婷
A5: 文学院 | B5: 2024 | C5: 公共课 | D5: [142943]大学外语Ⅳ（英语 普通专科） | E5: 2025-2026学年第二学期 | F5: 3 | G5: 22 | H5: 重新学习考试 | I5: 2026.10.24（周六）09:00-11:00 | J5: D401 | K5: 传媒与演艺学院 | L5: 缪佳栖 | M5: 人事处 | N5: 王延凯 | O5: 王渝
A6: 文学院 | B6: 2024 | C6: 公共课 | D6: [142945]大学外语Ⅳ（英语 艺体专科） | E6: 2025-2026学年第二学期 | F6: 3 | G6: 29 | H6: 重新学习考试 | I6: 2026.10.24（周六）09:00-11:00 | J6: D402 | K6: 财务处 | L6: 张欢 | M6: 财务处 | N6: 丁冲宇
A7: 理工学院 | B7: 2024 | C7: 公共课 | D7: [112902]高等数学Ⅱ（2024云计算技术应用（专）、 信息安全技术应用（专）、 建设工程管理（专）、城乡规划（专）） | E7: 2025-2026学年第二学期 | F7: 4 | G7: 48 | H7: 重新学习考试 | I7: 2026.10.24（周六）13:00-15:00 | J7: D401 | K7: 传媒与演艺学院 | L7: 缪佳栖 | M7: 体育与大健康学院 | N7: 邓静娴 | O7: 王怀宇
A8: 理工学院 | B8: 2024 | C8: 公共课 | D8: [112902]高等数学Ⅱ（2024护理（专）） | E8: 2025-2026学年第二学期 | F8: 4 | G8: 54 | H8: 重新学习考试 | I8: 2026.10.24（周六）13:00-15:00 | J8: D402 | K8: 教育学院 | L8: 何菲菲 | M8: 体育与大健康学院 | N8: 胡夏立
A9: 理工学院 | B9: 2024 | C9: 公共课 | D9: [112902]高等数学Ⅱ（2024数字媒体技术（专）、计算机应用技术（专）1-2班） | E9: 2025-2026学年第二学期 | F9: 4 | G9: 52 | H9: 重新学习考试 | I9: 2026.10.24（周六）13:00-15:00 | J9: D403 | K9: 人事处 | L9: 王延凯 | M9: 校长办公室 | N9: 韩明月
A10: 理工学院 | B10: 2024 | C10: 公共课 | D10: [112902]高等数学Ⅱ（计算机应用技术3-12班） | E10: 2025-2026学年第二学期 | F10: 4 | G10: 54 | H10: 重新学习考试 | I10: 2026.10.24（周六）13:00-15:00 | J10: D404 | K10: 教育学院 | L10: 舒鑫宇 | M10: 体育与大健康学院 | N10: 冯杰
A11: 马克思主义学院 | B11: 2024 | C11: 公共课 | D11: [13671123]形势与政策 | E11: 2025-2026学年第一学期 | G11: 49 | H11: 重新学习考试 | I11: 2026年10月23日9:00-10月29日9:00 | J11: 在线课程测评平台：https://cdcass.taiskeji.com | K11: 马克思主义学院 | L11: 陈丽萍
A12: 马克思主义学院 | B12: 2024 | C12: 公共课 | D12: 形势与政策 | E12: 2026-2027学年第一学期

Sheet 签到册
A1: 学院 | B1: 行政班级 | C1: 学号 | D1: 姓名 | E1: 课程环节 | F1: 类型 | G1: 考试时间 | H1: 考试地点 | I1: 考生签到 | J1: 平时成绩 | K1: 卷面成绩 | L1: 综合成绩 | M1: 阅卷老师
A2: 传媒与演艺学院 | B2: 2024播音与主持(专)5 | C2: 231110560306 | D2: 张思颖 | E2: [13671123]形势与政策 | F2: 重新学习考试 | G2: 2026年10月23日9:00-10月29日9:00 | H2: =VLOOKUP(E2,考试安排!D:J,7,0) -> 在线课程测评平台：https://cdcass.taiskeji.com
A3: 传媒与演艺学院 | B3: 2024播音与主持(专)2 | C3: 241110560209 | D3: 卿晨 | E3: 形势与政策 | F3: 重新学习考试 | G3: 2026年10月23日9:00-10月29日9:00 | H3: 在线课程测评平台：https://cdcass.taiskeji.com
A4: 传媒与演艺学院 | B4: 2024播音与主持(专)2 | C4: 241110560228 | D4: 张佳宁 | E4: 形势与政策 | F4: 重新学习考试 | G4: 2026年10月23日9:00-10月29日9:00 | H4: 在线课程测评平台：https://cdcass.taiskeji.com
A5: 传媒与演艺学院 | B5: 2024播音与主持(专)2 | C5: 241110560234 | D5: 杨棕翔 | E5: 形势与政策 | F5: 重新学习考试 | G5: 2026年10月23日9:00-10月29日9:00 | H5: 在线课程测评平台：https://cdcass.taiskeji.com
A6: 传媒与演艺学院 | B6: 2024播音与主持(专)5 | C6: 221110560107 | D6: 吕易苍 | E6: 形势与政策 | F6: 重新学习考试 | G6: 2026年10月23日9:00-10月29日9:00 | H6: 在线课程测评平台：https://cdcass.taiskeji.com
A7: 传媒与演艺学院 | B7: 2024舞蹈表演(专)2 | C7: 221110660126 | D7: 叶倩 | E7: 形势与政策 | F7: 重新学习考试 | G7: 2026年10月23日9:00-10月29日9:00 | H7: 在线课程测评平台：https://cdcass.taiskeji.com
A8: 传媒与演艺学院 | B8: 2024音乐表演(专)1 | C8: 231110760104 | D8: 康卓 | E8: 形势与政策 | F8: 重新学习考试 | G8: 2026年10月23日9:00-10月29日9:00 | H8: 在线课程测评平台：https://cdcass.taiskeji.com
A9: 传媒与演艺学院 | B9: 2024音乐表演(专)1 | C9: 241110760105 | D9: 左麟义 | E9: 形势与政策 | F9: 重新学习考试 | G9: 2026年10月23日9:00-10月29日9:00 | H9: 在线课程测评平台：https://cdcass.taiskeji.com
A10: 传媒与演艺学院 | B10: 2024音乐表演(专)2 | C10: 221110760229 | D10: 谌旺江 | E10: 形势与政策 | F10: 重新学习考试 | G10: 2026年10月23日9:00-10月29日9:00 | H10: 在线课程测评平台：https://cdcass.taiskeji.com
A11: 传媒与演艺学院 | B11: 2024音乐表演(专)2 | C11: 231110760213 | D11: 彭佳昱 | E11: 形势与政策 | F11: 重新学习考试 | G11: 2026年10月23日9:00-10月29日9:00 | H11: 在线课程测评平台：https://cdcass.taiskeji.com
A12: 传媒与演艺学院 | B12: 2024音乐表演(专)2 | C12: 241110760225 | D12: 罗梓豪 | E12: 形势与政策 | F12: 重新学习考试 | G12: 2026年10月23日9:00-10月29日9:00 | H12: 在线课程测评平台：https://cdcass.taiskeji.com
A13: 会计学院 | B13: 2024大数据与会计(专)4 | C13: 241040560424 | D13: 张昕怡 | E13: 形势与政策 | F13: 重新学习考试 | G13: 2026年10月23日9:00-10月29日9:00 | H13: 在线课程测评平台：https://cdcass.taiskeji.com
A14: 会计学院 | B14: 2024大数据与会计(专)5 | C14: 231040560313 | D14: 比曲色轨 | E14: 形势与政策 | F14: 重新学习考试 | G14: 2026年10月23日9:00-10月29日9:00 | H14: 在线课程测评平台：https://cdcass.taiskeji.com
... A44: 艺术设计与城市更新学院 | B44: 2024建设工程管理(专)2 | C44: 241090460237 | D44: 彭柯然 | E44: 形势与政策 | F44: 重新学习考试 | G44: 2026年10月23日9:00-10月29日9:00 | H44: 在线课程测评平台：https://cdcass.taiskeji.com
A45: 人工智能与大数据学院 | B45: 2024计算机应用技术(专)1 | C45: 221060560437 | D45: 李昊宇 | E45: [112902]高等数学Ⅱ（2024数字媒体技术（专）、计算机应用技术（专）1-2班） | F45: 重新学习考试 | G45: =VLOOKUP(E45,考试安排!D:I,6,0) -> 2026.10.24（周六）13:00-15:00 | H45: =VLOOKUP(E45,考试安排!D:J,7,0) -> D403
A46: 人工智能与大数据学院 | B46: 2024计算机应用技术(专)1 | C46: 241060560102 | D46: 李语蕊 | E46: [112902]高等数学Ⅱ（2024数字媒体技术（专）、计算机应用技术（专）1-2班） | F46: 重新学习考试 | G46: =VLOOKUP(E46,考试安排!D:I,6,0) -> 2026.10.24（周六）13:00-15:00 | H46: =VLOOKUP(E46,考试安排!D:J,7,0) -> D403
A47: 人工智能与大数据学院 | B47: 2024计算机应用技术(专)1 | C47: 241060560104 | D47: 杨蕊 | E47: [112902]高等数学Ⅱ（2024数字媒体技术（专）、计算机应用技术（专）1-2班） | F47: 重新学习考试 | G47: =VLOOKUP(E47,考试安排!D:I,6,0) -> 2026.10.24（周六）13:00-15:00 | H47: =VLOOKUP(E47,考试安排!D:J,7,0) -> D403
A48: 人工智能与大数据学院 | B48: 2024计算机应用技术(专)1 | C48: 241060560107 | D48: 王怡 | E48: [112902]高等数学Ⅱ（2024数字媒体技术（专）、计算机应用技术（专）1-2班） | F48: 重新学习考试 | G48: =VLOOKUP(E48,考试安排!D:I,6,0) -> 2026.10.24（周六）13:00-15:00 | H48: =VLOOKUP(E48,考试安排!D:J,7,0) -> D403
A49: 人工智能与大数据学院 | B49: 2024计算机应用技术(专)1 | C49: 241060560110 | D49: 苗国洋 | E49: [112902]高等数学Ⅱ（2024数字媒体技术（专）、计算机应用技术（专）1-2班） | F49: 重新学习考试 | G49: =VLOOKUP(E49,考试安排!D:I,6,0) -> 2026.10.24（周六）13:00-15:00 | H49: =VLOOKUP(E49,考试安排!D:J,7,0) -> D403
A50: 人工智能与大数据学院 | B50: 2024计算机应用技术(专)1 | C50: 241060560112 | D50: 陈家顺 | E50: [112902]高等数学Ⅱ（2024数字媒体技术（专）、计算机应用技术（专）1-2班） | F50: 重新学习考试 | G50: =VLOOKUP(E50,考试安排!D:I,6,0) -> 2026.10.24（周六）13:00-15:00 | H50: =VLOOKUP(E50,考试安排!D:J,7,0) -> D403
A51: 人工智能与大数据学院 | B51: 2024计算机应用技术(专)1 | C51: 241060560115 | D51: 杨金书 | E51: [112902]高等数学Ⅱ（2024数字媒体技术（专）、计算机应用技术（专）1-2班） | F51: 重新学习考试 | G51: =VLOOKUP(E51,考试安排!D:I,6,0) -> 2026.10.24（周六）13:00-15:00 | H51: =VLOOKUP(E51,考试安排!D:J,7,0) -> D403
A52: 人工智能与大数据学院 | B52: 2024计算机应用技术(专)1 | C52: 241060560120 | D52: 李豪 | E52: [112902]高等数学Ⅱ（2024数字媒体技术（专）、计算机应用技术（专）1-2班） | F52: 重新学习考试 | G52: =VLOOKUP(E52,考试安排!D:I,6,0) -> 2026.10.24（周六）13:00-15:00 | H52: =VLOOKUP(E52,考试安排!D:J,7,0) -> D403
A53: 人工智能与大数据学院 | B53: 2024计算机应用技术(专)1 | C53: 241060560122 | D53: 蒋翰辉 | E53: [112902]高等数学Ⅱ（2024数字媒体技术（专）、计算机应用技术（专）1-2班） | F53: 重新学习考试 | G53: =VLOOKUP(E53,考试安排!D:I,6,0) -> 2026.10.24（周六）13:00-15:00 | H53: =VLOOKUP(E53,考试安排!D:J,7,0) -> D403
A54: 人工智能与大数据学院 | B54: 2024计算机应用技术(专)1 | C54: 241060560124 | D54: 曾语衡 | E54: [112902]高等数学Ⅱ（2024数字媒体技术（专）、计算机应用技术（专）1-2班） | F54: 重新学习考试 | G54: =VLOOKUP(E54,考试安排!D:I,6,0) -> 2026.10.24（周六）13:00-15:00 | H54: =VLOOKUP(E54,考试安排!D:J,7,0) -> D403
A55: 人工智能与大数据学院 | B55: 2024计算机应用技术(专)1 | C55: 241060560128 | D55: 李咏金 | E55: [112902]高等数学Ⅱ（2024数字媒体技术（专）、计算机应用技术（专）1-2班） | F55: 重新学习考试 | G55: =VLOOKUP(E55,考试安排!D:I,6,0) -> 2026.10.24（周六）13:00-15:00 | H55: =VLOOKUP(E55,考试安排!D:J,7,0) -> D403
A56: 人工智能与大数据学院 | B56: 2024计算机应用技术(专)1 | C56: 241060560129 | D56: 李涛涛 | E56: [112902]高等数学Ⅱ（2024数字媒体技术（专）、计算机应用技术（专）1-2班） | F56: 重新学习考试 | G56: =VLOOKUP(E56,考试安排!D:I,6,0) -> 2026.10.24（周六）13:00-15:00 | H56: =VLOOKUP(E56,考试安排!D:J,7,0) -> D403
... A321: 会计学院 | B321: 2024大数据与会计(专)1 | C321: 241040560110 | D321: 吕思妍 | E321: [080054]大学生科学技术通论 | F321: 重新学习考试 | G321: =VLOOKUP(E321,考试安排!D:I,6,0) -> 2026.10.23（周五）15:20-17:20 | H321: =VLOOKUP(E321,考试安排!D:J,7,0) -> D401
A322: 传媒与演艺学院 | B322: 2024音乐表演(专)1 | C322: 231110760110 | D322: 唐旗 | E322: 形势与政策 | F322: 重新学习考试 | G322: 2026年10月23日9:00-10月29日9:00 | H322: 在线课程测评平台：https://cdcass.taiskeji.com
A323: 传媒与演艺学院 | B323: 2024音乐表演(专)1 | C323: 241110760102 | D323: 侯永平 | E323: 形势与政策 | F323: 重新学习考试 | G323: 2026年10月23日9:00-10月29日9:00 | H323: 在线课程测评平台：https://cdcass.taiskeji.com
A324: 会计学院 | B324: 2024大数据与会计(专)7 | C324: 241040560729 | D324: 张志国 | E324: 形势与政策 | F324: 重新学习考试 | G324: 2026年10月23日9:00-10月29日9:00 | H324: 在线课程测评平台：https://cdcass.taiskeji.com
A325: 艺术设计与城市更新学院 | B325: 2024广告艺术设计(专)1 | C325: 241020860101 | D325: 王裕 | E325: 形势与政策 | F325: 重新学习考试 | G325: 2026年10月23日9:00-10月29日9:00 | H325: 在线课程测评平台：https://cdcass.taiskeji.com
A326: 艺术设计与城市更新学院 | B326: 2024广告艺术设计(专)2 | C326: 231020860234 | D326: 刘雨欣 | E326: 形势与政策 | F326: 重新学习考试 | G326: 2026年10月23日9:00-10月29日9:00 | H326: 在线课程测评平台：https://cdcass.taiskeji.com
A327: 艺术设计与城市更新学院 | B327: 2024环境艺术设计(专)5 | C327: 241020960526 | D327: 陈廷兢 | E327: 形势与政策 | F327: 重新学习考试 | G327: 2026年10月23日9:00-10月29日9:00 | H327: 在线课程测评平台：https://cdcass.taiskeji.com
A328: 人工智能与大数据学院 | B328: 2024计算机应用技术(专)2 | C328: 221060560133 | D328: 康书博 | E328: [112902]高等数学Ⅱ（2024数字媒体技术（专）、计算机应用技术（专）1-2班） | F328: 重新学习考试 | G328: =VLOOKUP(E328,考试安排!D:I,6,0) -> 2026.10.24（周六）13:00-15:00 | H328: =VLOOKUP(E328,考试安排!D:J,7,0) -> D403

Sheet 准考证
A1: 学院 | B1: 班级 | C1: 学号 | D1: 姓名 | E1: 身份证号 | F1: 课程环节 | G1: 类型 | H1: 时间 | I1: 地点 | J1: 照片
A2: 传媒与演艺学院 | B2: 2024播音与主持(专)1 | C2: 241110560107 | D2: 宋治宏 | E2: =VLOOKUP(C2,[1]在校生数据2026!$E:$H,4,0) -> 130823200504160037 | F2: [142945]大学外语Ⅳ（英语 艺体专科） | G2: 重新学习考试 | H2: 2026.10.24.10.24（周六）09:00-11:00 | I2: D402 | J2: ="""D://PIC//"&E2&".JPG""" -> "D://PIC//130823200504160037.JPG"
A3: 传媒与演艺学院 | B3: 2024播音与主持(专)2 | C3: 241110560207 | D3: 刘昶炫 | E3: =VLOOKUP(C3,[1]在校生数据2026!$E:$H,4,0) -> 130635200702170855 | F3: [142945]大学外语Ⅳ（英语 艺体专科） | G3: 重新学习考试 | H3: 2026.10.24.10.24（周六）09:00-11:00 | I3: D402 | J3: ="""D://PIC//"&E3&".JPG""" -> "D://PIC//130635200702170855.JPG"
A4: 传媒与演艺学院 | B4: 2024播音与主持(专)2 | C4: 241110560209 | D4: 卿晨 | E4: =VLOOKUP(C4,[1]在校生数据2026!$E:$H,4,0) -> 51032220051026573X | F4: 形势与政策 | G4: 重新学习考试 | H4: 2026年10月23日9:00-10月29日9:00 | I4: 在线课程测评平台：https://cdcass.taiskeji.com | J4: ="""D://PIC//"&E4&".JPG""" -> "D://PIC//51032220051026573X.JPG"
A5: 传媒与演艺学院 | B5: 2024播音与主持(专)2 | C5: 241110560228 | D5: 张佳宁 | E5: =VLOOKUP(C5,[1]在校生数据2026!$E:$H,4,0) -> 410902200607250829 | F5: 形势与政策 | G5: 重新学习考试 | H5: 2026年10月23日9:00-10月29日9:00 | I5: 在线课程测评平台：https://cdcass.taiskeji.com | J5: ="""D://PIC//"&E5&".JPG""" -> "D://PIC//410902200607250829.JPG"
A6: 传媒与演艺学院 | B6: 2024播音与主持(专)2 | C6: 241110560230 | D6: 任钥 | E6: =VLOOKUP(C6,[1]在校生数据2026!$E:$H,4,0) -> 130681200603151067 | F6: [142945]大学外语Ⅳ（英语 艺体专科） | G6: 重新学习考试 | H6: 2026.10.24.10.24（周六）09:00-11:00 | I6: D402 | J6: ="""D://PIC//"&E6&".JPG""" -> "D://PIC//130681200603151067.JPG"
A7: 传媒与演艺学院 | B7: 2024播音与主持(专)2 | C7: 241110560234 | D7: 杨棕翔 | E7: =VLOOKUP(C7,[1]在校生数据2026!$E:$H,4,0) -> 511721200512174432 | F7: 形势与政策 | G7: 重新学习考试 | H7: 2026年10月23日9:00-10月29日9:00 | I7: 在线课程测评平台：https://cdcass.taiskeji.com | J7: ="""D://PIC//"&E7&".JPG""" -> "D://PIC//511721200512174432.JPG"
A8: 传媒与演艺学院 | B8: 2024播音与主持(专)2 | C8: 241110560234 | D8: 杨棕翔 | E8: =VLOOKUP(C8,[1]在校生数据2026!$E:$H,4,0) -> 511721200512174432 | F8: [080054]大学生科学技术通论 | G8: 重新学习考试 | H8: 2026.10.24.10.23（周五）15:20-17:20 | I8: D401 | J8: ="""D://PIC//"&E8&".JPG""" -> "D://PIC//511721200512174432.JPG"
A9: 传媒与演艺学院 | B9: 2024播音与主持(专)2 | C9: 241110560234 | D9: 杨棕翔 | E9: =VLOOKUP(C9,[1]在校生数据2026!$E:$H,4,0) -> 511721200512174432 | F9: [142945]大学外语Ⅳ（英语 艺体专科） | G9: 重新学习考试 | H9: 2026.10.24.10.24（周六）09:00-11:00 | I9: D402 | J9: ="""D://PIC//"&E9&".JPG""" -> "D://PIC//511721200512174432.JPG"
A10: 传媒与演艺学院 | B10: 2024播音与主持(专)5 | C10: 221110560107 | D10: 吕易苍 | E10: =VLOOKUP(C10,[1]在校生数据2026!$E:$H,4,0) -> 510182200407230075 | F10: 形势与政策 | G10: 重新学习考试 | H10: 2026年10月23日9:00-10月29日9:00 | I10: 在线课程测评平台：https://cdcass.taiskeji.com | J10: ="""D://PIC//"&E10&".JPG""" -> "D://PIC//510182200407230075.JPG"
A11: 传媒与演艺学院 | B11: 2024播音与主持(专)5 | C11: 231110560306 | D11: 张思颖 | E11: 130732200501240040 | F11: [13671123]形势与政策 | G11: 重新学习考试 | H11: 2026年10月23日9:00-10月29日9:00 | I11: 在线课程测评平台：https://cdcass.taiskeji.com | J11: ="""D://PIC//"&E11&".JPG""" -> "D://PIC//130732200501240040.JPG"
A12: 传媒与演艺学院 | B12: 2024播音与主持(专)5 | C12: 231110560306 | D12: 张思颖 | E12: 130732200501240040 | F12: [080051]大学生职业素养与人生规划Ⅴ | G12: 重新学习考试 | H12: 2026.10.24.10.23（周五）13:00-15:00 | I12: D404 | J12: ="""D://PIC//"&E12&".JPG""" -> "D://PIC//130732200501240040.JPG"
A13: 传媒与演艺学院 | B13: 2024舞蹈表演(专)2 | C13: 221110660126 | D13: 叶倩 | E13: =VLOOKUP(C13,[1]在校生数据2026!$E:$H,4,0) -> 510121200403059220 | F13: 形势与政策 | G13: 重新学习考试 | H13: 2026年10月23日9:00-10月29日9:00 | I13: 在线课程测评平台：https://cdcass.taiskeji.com | J13: ="""D://PIC//"&E13&".JPG""" -> "D://PIC//510121200403059220.JPG"
A14: 传媒与演艺学院 | B14: 2024音乐表演(专)1 | C14: 231110760104 | D14: 康卓 | E14: =VLOOKUP(C14,[1]在校生数据2026!$E:$H,4,0) -> 511322200407264115 | F14: 形势与政策 | G14: 重新学习考试 | H14: 2026年10月23日9:00-10月29日9:00 | I14: 在线课程测评平台：https://cdcass.taiskeji.com | J14: ="""D://PIC//"&E14&".JPG""" -> "D://PIC//511322200407264115.JPG"
A15: 传媒与演艺学院 | B15: 2024音乐表演(专)1 | C15: 231110760104 | D15: 康卓 | E15: =VLOOKUP(C15,[1]在校生数据2026!$E:$H,4,0) -> 511322200407264115 | F15: [080044]大学生职业素养与人生规划Ⅳ | G15: 重新学习考试 | H15: 2026.10.24.10.23（周五）09:00-11:00 | I15: D301 | J15: ="""D://PIC//"&E15&".JPG""" -> "D://PIC//511322200407264115.JPG"
A16: 传媒与演艺学院 | B16: 2024音乐表演(专)1 | C16: 231110760104 | D16: 康卓 | E16: =VLOOKUP(C16,[1]在校生数据2026!$E:$H,4,0) -> 511322200407264115 | F16: [080051]大学生职业素养与人生规划Ⅴ | G16: 重新学习考试 | H16: 2026.10.24.10.23（周五）13:00-15:00 | I16: D404 | J16: ="""D://PIC//"&E16&".JPG""" -> "D://PIC//511322200407264115.JPG"
A17: 传媒与演艺学院 | B17: 2024音乐表演(专)1 | C17: 231110760104 | D17: 康卓 | E17: =VLOOKUP(C17,[1]在校生数据2026!$E:$H,4,0) -> 511322200407264115 | F17: [080054]大学生科学技术通论 | G17: 重新学习考试 | H17: 2026.10.24.10.23（周五）15:20-17:20 | I17: D401 | J17: ="""D://PIC//"&E17&".JPG""" -> "D://PIC//511322200407264115.JPG"
A18: 传媒与演艺学院 | B18: 2024音乐表演(专)1 | C18: 231110760104 | D18: 康卓 | E18: =VLOOKUP(C18,[1]在校生数据2026!$E:$H,4,0) -> 511322200407264115 | F18: [142945]大学外语Ⅳ（英语 艺体专科） | G18: 重新学习考试 | H18: 2026.10.24.10.24（周六）09:00-11:00 | I18: D402 | J18: ="""D://PIC//"&E18&".JPG""" -> "D://PIC//511322200407264115.JPG"
A19: 传媒与演艺学院 | B19: 2024音乐表演(专)1 | C19: 231110760110 | D19: 唐旗 | E19: =VLOOKUP(C19,[1]在校生数据2026!$E:$H,4,0) -> 513227200310304211 | F19: [080044]大学生职业素养与人生规划Ⅳ | G19: 重新学习考试 | H19: 2026.10.24.10.23（周五）09:00-11:00 | I19: D301 | J19: ="""D://PIC//"&E19&".JPG""" -> "D://PIC//513227200310304211.JPG"
A20: 传媒与演艺学院 | B20: 2024音乐表演(专)1 | C20: 231110760110 | D20: 唐旗 | E20: =VLOOKUP(C20,[1]在校生数据2026!$E:$H,4,0) -> 513227200310304211 | F20: [142945]大学外语Ⅳ（英语 艺体专科） | G20: 重新学习考试 | H20: 2026.10.24.10.24（周六）09:00-11:00 | I20: D402 | J20: ="""D://PIC//"&E20&".JPG""" -> "D://PIC//513227200310304211.JPG"
A21: 传媒与演艺学院 | B21: 2024音乐表演(专)1 | C21: 231110760110 | D21: 唐旗 | E21: =VLOOKUP(C21,[1]在校生数据2026!$E:$H,4,0) -> 513227200310304211 | F21: 形势与政策 | G21: 重新学习考试 | H21: 2026年10月23日9:00-10月29日9:00 | I21: 在线课程测评平台：https://cdcass.taiskeji.com | J21: ="""D://PIC//"&E21&".JPG""" -> "D://PIC//513227200310304211.JPG"
A22: 传媒与演艺学院 | B22: 2024音乐表演(专)1 | C22: 241110760102 | D22: 侯永平 | E22: =VLOOKUP(C22,[1]在校生数据2026!$E:$H,4,0) -> 510183200602150210 | F22: [080044]大学生职业素养与人生规划Ⅳ | G22: 重新学习考试 | H22: 2026.10.24.10.23（周五）09:00-11:00 | I22: D301 | J22: ="""D://PIC//"&E22&".JPG""" -> "D://PIC//510183200602150210.JPG"
A23: 传媒与演艺学院 | B23: 2024音乐表演(专)1 | C23: 241110760102 | D23: 侯永平 | E23: =VLOOKUP(C23,[1]在校生数据2026!$E:$H,4,0) -> 510183200602150210 | F23: [142945]大学外语Ⅳ（英语 艺体专科） | G23: 重新学习考试 | H23: 2026.10.24.10.24（周六）09:00-11:00 | I23: D402 | J23: ="""D://PIC//"&E23&".JPG""" -> "D://PIC//510183200602150210.JPG"
A24: 传媒与演艺学院 | B24: 2024音乐表演(专)1 | C24: 241110760102 | D24: 侯永平 | E24: =VLOOKUP(C24,[1]在校生数据2026!$E:$H,4,0) -> 510183200602150210 | F24: 形势与政策 | G24: 重新学习考试 | H24: 2026年10月23日9:00-10月29日9:00 | I24: 在线课程测评平台：https://cdcass.taiskeji.com | J24: ="""D://PIC//"&E24&".JPG""" -> "D://PIC//510183200602150210.JPG"
... A38: 传媒与演艺学院 | B38: 2024音乐表演(专)2 | C38: 241110760225 | D38: 罗梓豪 | E38: =VLOOKUP(C38,[1]在校生数据2026!$E:$H,4,0) -> 510504200605170037 | F38: 形势与政策 | G38: 重新学习考试 | H38: 2026年10月23日9:00-10月29日9:00 | I38: 在线课程测评平台：https://cdcass.taiskeji.com | J38: ="""D://PIC//"&E38&".JPG""" -> "D://PIC//510504200605170037.JPG"
A39: 传媒与演艺学院 | E39: =VLOOKUP(C39,[1]在校生数据2026!$E:$H,4,0) -> #N/A
A40: 传媒与演艺学院 | E40: =VLOOKUP(C40,[1]在校生数据2026!$E:$H,4,0) -> #N/A
A41: 传媒与演艺学院 | E41: =VLOOKUP(C41,[1]在校生数据2026!$E:$H,4,0) -> #N/A
A42: 会计学院 | B42: 2024大数据与财务管理(专)2 | C42: 241040460227 | D42: 管辰浩 | E42: =VLOOKUP(C42,[1]在校生数据2026!$E:$H,4,0) -> 360981200603298113 | F42: [142943]大学外语Ⅳ（英语 普通专科） | G42: 重新学习考试 | H42: 2026.10.24.10.24（周六）09:00-11:00 | I42: D401 | J42: ="""D://PIC//"&E42&".JPG""" -> "D://PIC//360981200603298113.JPG"
A43: 会计学院 | B43: 2024大数据与会计(专)1 | C43: 241040560110 | D43: 吕思妍 | E43: =VLOOKUP(C43,[1]在校生数据2026!$E:$H,4,0) -> 511421200605076704 | F43: [080054]大学生科学技术通论 | G43: 重新学习考试 | H43: 2026.10.24.10.23（周五）15:20-17:20 | I43: D401 | J43: ="""D://PIC//"&E43&".JPG""" -> "D://PIC//511421200605076704.JPG"
A44: 会计学院 | B44: 2024大数据与会计(专)4 | C44: 241040560424 | D44: 张昕怡 | E44: =VLOOKUP(C44,[1]在校生数据2026!$E:$H,4,0) -> 510122200605270047 | F44: 形势与政策 | G44: 重新学习考试 | H44: 2026年10月23日9:00-10月29日9:00 | I44: 在线课程测评平台：https://cdcass.taiskeji.com | J44: ="""D://PIC//"&E44&".JPG""" -> "D://PIC//510122200605270047.JPG"
A45: 会计学院 | B45: 2024大数据与会计(专)5 | C45: 231040560313 | D45: 比曲色轨 | E45: =VLOOKUP(C45,[1]在校生数据2026!$E:$H,4,0) -> 513428200302251719 | F45: 形势与政策 | G45: 重新学习考试 | H45: 2026年10月23日9:00-10月29日9:00 | I45: 在线课程测评平台：https://cdcass.taiskeji.com | J45: ="""D://PIC//"&E45&".JPG""" -> "D://PIC//513428200302251719.JPG"
A46: 会计学院 | B46: 2024大数据与会计(专)5 | C46: 231040560313 | D46: 比曲色轨 | E46: =VLOOKUP(C46,[1]在校生数据2026!$E:$H,4,0) -> 513428200302251719 | F46: [142943]大学外语Ⅳ（英语 普通专科） | G46: 重新学习考试 | H46: 2026.10.24.10.24（周六）09:00-11:00 | I46: D401 | J46: ="""D://PIC//"&E46&".JPG""" -> "D://PIC//513428200302251719.JPG"
A47: 会计学院 | B47: 2024大数据与会计(专)7 | C47: 241040560711 | D47: 殷语梦 | E47: =VLOOKUP(C47,[1]在校生数据2026!$E:$H,4,0) -> 510411200608158429 | F47: [142943]大学外语Ⅳ（英语 普通专科） | G47: 重新学习考试 | H47: 2026.10.24.10.24（周六）09:00-11:00 | I47: D401 | J47: ="""D://PIC//"&E47&".JPG""" -> "D://PIC//510411200608158429.JPG"
A48: 会计学院 | B48: 2024大数据与会计(专)7 | C48: 241040560729 | D48: 张志国 | E48: =VLOOKUP(C48,[1]在校生数据2026!$E:$H,4,0) -> 511902200509276915 | F48: 形势与政策 | G48: 重新学习考试 | H48: 2026年10月23日9:00-10月29日9:00 | I48: 在线课程测评平台：https://cdcass.taiskeji.com | J48: ="""D://PIC//"&E48&".JPG""" -> "D://PIC//511902200509276915.JPG"
A49: 会计学院 | B49: 2024大数据与会计(专)7 | C49: 241040560734 | D49: 贾斯哲 | E49: =VLOOKUP(C49,[1]在校生数据2026!$E:$H,4,0) -> 650203200505262119 | F49: 形势与政策 | G49: 重新学习考试 | H49: 2026年10月23日9:00-10月29日9:00 | I49: 在线课程测评平台：https://cdcass.taiskeji.com | J49: ="""D://PIC//"&E49&".JPG""" -> "D://PIC//650203200505262119.JPG"
A50: 会计学院 | E50: =VLOOKUP(C50,[1]在校生数据2026!$E:$H,4,0) -> #N/A
A51: 会计学院 | E51: =VLOOKUP(C51,[1]在校生数据2026!$E:$H,4,0) -> #N/A
A52: 教育学院 | B52: 2024学前教育(专)3 | C52: 241080760301 | D52: 邓炜锋 | E52: =VLOOKUP(C52,[1]在校生数据2026!$E:$H,4,0) -> 512022200607040014 | F52: 形势与政策 | G52: 重新学习考试 | H52: 2026年10月23日9:00-10月29日9:00 | I52: 在线课程测评平台：https://cdcass.taiskeji.com | J52: ="""D://PIC//"&E52&".JPG""" -> "D://PIC//512022200607040014.JPG"
A53: 教育学院 | E53: =VLOOKUP(C53,[1]在校生数据2026!$E:$H,4,0) -> #N/A
A54: 教育学院 | E54: =VLOOKUP(C54,[1]在校生数据2026!$E:$H,4,0) -> #N/A
A55: 教育学院 | E55: =VLOOKUP(C55,[1]在校生数据2026!$E:$H,4,0) -> #N/A
A56: 教育学院 | E56: =VLOOKUP(C56,[1]在校生数据2026!$E:$H,4,0) -> #N/A
A57: 人工智能与大数据学院 | B57: 2024计算机应用技术(专)1 | C57: 221060560437 | D57: 李昊宇 | E57: =VLOOKUP(C57,[1]在校生数据2026!$E:$H,4,0) -> 513401200212040010 | F57: [112902]高等数学Ⅱ（2024数字媒体技术（专）、计算机应用技术（专）1-2班） | G57: 重新学习考试 | H57: 2026.10.24.10.24（周六）13:00-15:00 | I57: D403 | J57: ="""D://PIC//"&E57&".JPG""" -> "D://PIC//513401200212040010.JPG"
A58: 人工智能与大数据学院 | B58: 2024计算机应用技术(专)1 | C58: 241060560102 | D58: 李语蕊 | E58: =VLOOKUP(C58,[1]在校生数据2026!$E:$H,4,0) -> 652801200602164520 | F58: [112902]高等数学Ⅱ（2024数字媒体技术（专）、计算机应用技术（专）1-2班） | G58: 重新学习考试 | H58: 2026.10.24.10.24（周六）13:00-15:00 | I58: D403 | J58: ="""D://PIC//"&E58&".JPG""" -> "D://PIC//652801200602164520.JPG"
A59: 人工智能与大数据学院 | B59: 2024计算机应用技术(专)1 | C59: 241060560104 | D59: 杨蕊 | E59: =VLOOKUP(C59,[1]在校生数据2026!$E:$H,4,0) -> 511123200501231462 | F59: [112902]高等数学Ⅱ（2024数字媒体技术（专）、计算机应用技术（专）1-2班） | G59: 重新学习考试 | H59: 2026.10.24.10.24（周六）13:00-15:00 | I59: D403 | J59: ="""D://PIC//"&E59&".JPG""" -> "D://PIC//511123200501231462.JPG"
A60: 人工智能与大数据学院 | B60: 2024计算机应用技术(专)1 | C60: 241060560107 | D60: 王怡 | E60: =VLOOKUP(C60,[1]在校生数据2026!$E:$H,4,0) -> 511129200510100825 | F60: [112902]高等数学Ⅱ（2024数字媒体技术（专）、计算机应用技术（专）1-2班） | G60: 重新学习考试 | H60: 2026.10.24.10.24（周六）13:00-15:00 | I60: D403 | J60: ="""D://PIC//"&E60&".JPG""" -> "D://PIC//511129200510100825.JPG"
A61: 人工智能与大数据学院 | B61: 2024计算机应用技术(专)1 | C61: 241060560110 | D61: 苗国洋 | E61: =VLOOKUP(C61,[1]在校生数据2026!$E:$H,4,0) -> 510824200604048031 | F61: [112902]高等数学Ⅱ（2024数字媒体技术（专）、计算机应用技术（专）1-2班） | G61: 重新学习考试 | H61: 2026.10.24.10.24（周六）13:00-15:00 | I61: D403 | J61: ="""D://PIC//"&E61&".JPG""" -> "D://PIC//510824200604048031.JPG"
A62: 人工智能与大数据学院 | B62: 2024计算机应用技术(专)1 | C62: 241060560112 | D62: 陈家顺 | E62: =VLOOKUP(C62,[1]在校生数据2026!$E:$H,4,0) -> 512021200601163375 | F62: [112902]高等数学Ⅱ（2024数字媒体技术（专）、计算机应用技术（专）1-2班） | G62: 重新学习考试 | H62: 2026.10.24.10.24（周六）13:00-15:00 | I62: D403 | J62: ="""D://PIC//"&E62&".JPG""" -> "D://PIC//512021200601163375.JPG"
A63: 人工智能与大数据学院 | B63: 2024计算机应用技术(专)1 | C63: 241060560115 | D63: 杨金书 | E63: =VLOOKUP(C63,[1]在校生数据2026!$E:$H,4,0) -> 511621200603025939 | F63: [112902]高等数学Ⅱ（2024数字媒体技术（专）、计算机应用技术（专）1-2班） | G63: 重新学习考试 | H63: 2026.10.24.10.24（周六）13:00-15:00 | I63: D403 | J63: ="""D://PIC//"&E63&".JPG""" -> "D://PIC//511621200603025939.JPG"
A64: 人工智能与大数据学院 | B64: 2024计算机应用技术(专)1 | C64: 241060560120 | D64: 李豪 | E64: =VLOOKUP(C64,[1]在校生数据2026!$E:$H,4,0) -> 511321200603235251 | F64: [112902]高等数学Ⅱ（2024数字媒体技术（专）、计算机应用技术（专）1-2班） | G64: 重新学习考试 | H64: 2026.10.24.10.24（周六）13:00-15:00 | I64: D403 | J64: ="""D://PIC//"&E64&".JPG""" -> "D://PIC//511321200603235251.JPG"
A65: 人工智能与大数据学院 | B65: 2024计算机应用技术(专)1 | C65: 241060560122 | D65: 蒋翰辉 | E65: =VLOOKUP(C65,[1]在校生数据2026!$E:$H,4,0) -> 511304200507200810 | F65: [112902]高等数学Ⅱ（2024数字媒体技术（专）、计算机应用技术（专）1-2班） | G65: 重新学习考试 | H65: 2026.10.24.10.24（周六）13:00-15:00 | I65: D403 | J65: ="""D://PIC//"&E65&".JPG""" -> "D://PIC//511304200507200810.JPG"
A66: 人工智能与大数据学院 | B66: 2024计算机应用技术(专)1 | C66: 241060560124 | D66: 曾语衡 | E66: =VLOOKUP(C66,[1]在校生数据2026!$E:$H,4,0) -> 510121200512260118 | F66: [112902]高等数学Ⅱ（2024数字媒体技术（专）、计算机应用技术（专）1-2班） | G66: 重新学习考试 | H66: 2026.10.24.10.24（周六）13:00-15:00 | I66: D403 | J66: ="""D://PIC//"&E66&".JPG""" -> "D://PIC//510121200512260118.JPG"
A67: 人工智能与大数据学院 | B67: 2024计算机应用技术(专)1 | C67: 241060560128 | D67: 李咏金 | E67: =VLOOKUP(C67,[1]在校生数据2026!$E:$H,4,0) -> 510904200605031856 | F67: [112902]高等数学Ⅱ（2024数字媒体技术（专）、计算机应用技术（专）1-2班） | G67: 重新学习考试 | H67: 2026.10.24.10.24（周六）13:00-15:00 | I67: D403 | J67: ="""D://PIC//"&E67&".JPG""" -> "D://PIC//510904200605031856.JPG"
A68: 人工智能与大数据学院 | B68: 2024计算机应用技术(专)1 | C68: 241060560129 | D68: 李涛涛 | E68: =VLOOKUP(C68,[1]在校生数据2026!$E:$H,4,0) -> 511721200507185559 | F68: [112902]高等数学Ⅱ（2024数字媒体技术（专）、计算机应用技术（专）1-2班） | G68: 重新学习考试 | H68: 2026.10.24.10.24（周六）13:00-15:00 | I68: D403 | J68: ="""D://PIC//"&E68&".JPG""" -> "D://PIC//511721200507185559.JPG"
... A81: 人工智能与大数据学院 | B81: 2024计算机应用技术(专)12 | C81: 241060561215 | D81: 徐昊锋 | E81: =VLOOKUP(C81,[1]在校生数据2026!$E:$H,4,0) -> 511321200507156318 | F81: [112902]高等数学Ⅱ（计算机应用技术3-12班） | G81: 重新学习考试 | H81: 2026.10.24.10.24（周六）13:00-15:00 | I81: D404 | J81: ="""D://PIC//"&E81&".JPG""" -> "D://PIC//511321200507156318.JPG"
A82: 人工智能与大数据学院 | B82: 2024计算机应用技术(专)2 | C82: 221060560133 | D82: 康书博 | E82: 652826200408101419 | F82: [112902]高等数学Ⅱ（2024数字媒体技术（专）、计算机应用技术（专）1-2班） | G82: 重新学习考试 | H82: 2026.10.24.10.24（周六）13:00-15:00 | I82: D403 | J82: ="""D://PIC//"&E82&".JPG""" -> "D://PIC//652826200408101419.JPG"
A83: 人工智能与大数据学院 | B83: 2024计算机应用技术(专)2 | C83: 241060560206 | D83: 庞钦越 | E83: =VLOOKUP(C83,[1]在校生数据2026!$E:$H,4,0) -> 511721200512296886 | F83: [112902]高等数学Ⅱ（2024数字媒体技术（专）、计算机应用技术（专）1-2班） | G83: 重新学习考试 | H83: 2026.10.24.10.24（周六）13:00-15:00 | I83: D403 | J83: ="""D://PIC//"&E83&".JPG""" -> "D://PIC//511721200512296886.JPG"
A84: 人工智能与大数据学院 | B84: 2024计算机应用技术(专)2 | C84: 241060560211 | D84: 符雪峰 | E84: =VLOOKUP(C84,[1]在校生数据2026!$E:$H,4,0) -> 511722200510083971 | F84: [112902]高等数学Ⅱ（2024数字媒体技术（专）、计算机应用技术（专）1-2班） | G84: 重新学习考试 | H84: 2026.10.24.10.24（周六）13:00-15:00 | I84: D403 | J84: ="""D://PIC//"&E84&".JPG""" -> "D://PIC//511722200510083971.JPG"
A85: 人工智能与大数据学院 | B85: 2024计算机应用技术(专)2 | C85: 241060560220 | D85: 曾家杰 | E85: =VLOOKUP(C85,[1]在校生数据2026!$E:$H,4,0) -> 512081200410058819 | F85: [112902]高等数学Ⅱ（2024数字媒体技术（专）、计算机应用技术（专）1-2班） | G85: 重新学习考试 | H85: 2026.10.24.10.24（周六）13:00-15:00 | I85: D403 | J85: ="""D://PIC//"&E85&".JPG""" -> "D://PIC//512081200410058819.JPG"
A86: 人工智能与大数据学院 | B86: 2024计算机应用技术(专)2 | C86: 241060560221 | D86: 赵锐 | E86: =VLOOKUP(C86,[1]在校生数据2026!$E:$H,4,0) -> 511781200602265131 | F86: [112902]高等数学Ⅱ（2024数字媒体技术（专）、计算机应用技术（专）1-2班） | G86: 重新学习考试 | H86: 2026.10.24.10.24（周六）13:00-15:00 | I86: D403 | J86: ="""D://PIC//"&E86&".JPG""" -> "D://PIC//511781200602265131.JPG"
A87: 人工智能与大数据学院 | B87: 2024计算机应用技术(专)2 | C87: 241060560224 | D87: 黄晨奕 | E87: =VLOOKUP(C87,[1]在校生数据2026!$E:$H,4,0) -> 511321200605225452 | F87: [112902]高等数学Ⅱ（2024数字媒体技术（专）、计算机应用技术（专）1-2班） | G87: 重新学习考试 | H87: 2026.10.24.10.24（周六）13:00-15:00 | I87: D403 | J87: ="""D://PIC//"&E87&".JPG""" -> "D://PIC//511321200605225452.JPG"
A88: 人工智能与大数据学院 | B88: 2024计算机应用技术(专)2 | C88: 241060560226 | D88: 任淮铭 | E88: =VLOOKUP(C88,[1]在校生数据2026!$E:$H,4,0) -> 511325200612231311 | F88: [112902]高等数学Ⅱ（2024数字媒体技术（专）、计算机应用技术（专）1-2班） | G88: 重新学习考试 | H88: 2026.10.24.10.24（周六）13:00-15:00 | I88: D403 | J88: ="""D://PIC//"&E88&".JPG""" -> "D://PIC//511325200612231311.JPG"
A89: 人工智能与大数据学院 | B89: 2024计算机应用技术(专)2 | C89: 241060560228 | D89: 向文开 | E89: =VLOOKUP(C89,[1]在校生数据2026!$E:$H,4,0) -> 511923200601081557 | F89: [112902]高等数学Ⅱ（2024数字媒体技术（专）、计算机应用技术（专）1-2班） | G89: 重新学习考试 | H89: 2026.10.24.10.24（周六）13:00-15:00 | I89: D403 | J89: ="""D://PIC//"&E89&".JPG""" -> "D://PIC//511923200601081557.JPG"
A90: 人工智能与大数据学院 | B90: 2024计算机应用技术(专)2 | C90: 241060560230 | D90: 牛海雨 | E90: =VLOOKUP(C90,[1]在校生数据2026!$E:$H,4,0) -> 51082420060811071X | F90: [112902]高等数学Ⅱ（2024数字媒体技术（专）、计算机应用技术（专）1-2班） | G90: 重新学习考试 | H90: 2026.10.24.10.24（周六）13:00-15:00 | I90: D403 | J90: ="""D://PIC//"&E90&".JPG""" -> "D://PIC//51082420060811071X.JPG"
A91: 人工智能与大数据学院 | B91: 2024计算机应用技术(专)2 | C91: 241060560232 | D91: 张通轩 | E91: =VLOOKUP(C91,[1]在校生数据2026!$E:$H,4,0) -> 511002200611031210 | F91: [112902]高等数学Ⅱ（2024数字媒体技术（专）、计算机应用技术（专）1-2班） | G91: 重新学习考试 | H91: 2026.10.24.10.24（周六）13:00-15:00 | I91: D403 | J91: ="""D://PIC//"&E91&".JPG""" -> "D://PIC//511002200611031210.JPG"
A92: 人工智能与大数据学院 | B92: 2024计算机应用技术(专)3 | C92: 241060560304 | D92: 李亚 | E92: =VLOOKUP(C92,[1]在校生数据2026!$E:$H,4,0) -> 511321200608154688 | F92: [112902]高等数学Ⅱ（计算机应用技术3-12班） | G92: 重新学习考试 | H92: 2026.10.24.10.24（周六）13:00-15:00 | I92: D404 | J92: ="""D://PIC//"&E92&".JPG""" -> "D://PIC//511321200608154688.JPG"
A93: 人工智能与大数据学院 | B93: 2024计算机应用技术(专)3 | C93: 241060560311 | D93: 王梓安 | E93: =VLOOKUP(C93,[1]在校生数据2026!$E:$H,4,0) -> 130402200608161217 | F93: [112902]高等数学Ⅱ（计算机应用技术3-12班） | G93: 重新学习考试 | H93: 2026.10.24.10.24（周六）13:00-15:00 | I93: D404 | J93: ="""D://PIC//"&E93&".JPG""" -> "D://PIC//130402200608161217.JPG"
A94: 人工智能与大数据学院 | B94: 2024计算机应用技术(专)3 | C94: 241060560317 | D94: 陈洋柯 | E94: =VLOOKUP(C94,[1]在校生数据2026!$E:$H,4,0) -> 510105200512280119 | F94: [112902]高等数学Ⅱ（计算机应用技术3-12班） | G94: 重新学习考试 | H94: 2026.10.24.10.24（周六）13:00-15:00 | I94: D404 | J94: ="""D://PIC//"&E94&".JPG""" -> "D://PIC//510105200512280119.JPG"
... A208: 数智经济与管理学院 | B208: 2024旅游管理(专)1 | C208: 231090460138 | D208: 邓子恒 | E208: =VLOOKUP(C208,[1]在校生数据2026!$E:$H,4,0) -> 510525200403030011 | F208: 形势与政策 | G208: 重新学习考试 | H208: 2026年10月23日9:00-10月29日9:00 | I208: 在线课程测评平台：https://cdcass.taiskeji.com | J208: ="""D://PIC//"&E208&".JPG""" -> "D://PIC//510525200403030011.JPG"
A209: 数智经济与管理学院 | E209: =VLOOKUP(C209,[1]在校生数据2026!$E:$H,4,0) -> #N/A
A210: 数智经济与管理学院 | E210: =VLOOKUP(C210,[1]在校生数据2026!$E:$H,4,0) -> #N/A
A211: 数智经济与管理学院 | E211: =VLOOKUP(C211,[1]在校生数据2026!$E:$H,4,0) -> #N/A
A212: 体育与大健康学院 | B212: 2024护理(专)1 | C212: 241070460110 | D212: 李政瀚 | E212: =VLOOKUP(C212,[1]在校生数据2026!$E:$H,4,0) -> 513124200504070172 | F212: [112902]高等数学Ⅱ（2024护理（专）） | G212: 重新学习考试 | H212: 2026.10.24.10.24（周六）13:00-15:00 | I212: D402 | J212: ="""D://PIC//"&E212&".JPG""" -> "D://PIC//513124200504070172.JPG"
A213: 体育与大健康学院 | B213: 2024护理(专)1 | C213: 241070460114 | D213: 税鑫 | E213: =VLOOKUP(C213,[1]在校生数据2026!$E:$H,4,0) -> 511124200511020024 | F213: [112902]高等数学Ⅱ（2024护理（专）） | G213: 重新学习考试 | H213: 2026.10.24.10.24（周六）13:00-15:00 | I213: D402 | J213: ="""D://PIC//"&E213&".JPG""" -> "D://PIC//511124200511020024.JPG"
A214: 体育与大健康学院 | B214: 2024护理(专)1 | C214: 241070460116 | D214: 何雨彦 | E214: =VLOOKUP(C214,[1]在校生数据2026!$E:$H,4,0) -> 510603200511092049 | F214: [112902]高等数学Ⅱ（2024护理（专）） | G214: 重新学习考试 | H214: 2026.10.24.10.24（周六）13:00-15:00 | I214: D402 | J214: ="""D://PIC//"&E214&".JPG""" -> "D://PIC//510603200511092049.JPG"
A215: 体育与大健康学院 | B215: 2024护理(专)1 | C215: 241070460120 | D215: 张佳娴 | E215: =VLOOKUP(C215,[1]在校生数据2026!$E:$H,4,0) -> 513225200604101126 | F215: [112902]高等数学Ⅱ（2024护理（专）） | G215: 重新学习考试 | H215: 2026.10.24.10.24（周六）13:00-15:00 | I215: D402 | J215: ="""D://PIC//"&E215&".JPG""" -> "D://PIC//513225200604101126.JPG"
A216: 体育与大健康学院 | B216: 2024护理(专)1 | C216: 241070460124 | D216: 曾慧萱 | E216: =VLOOKUP(C216,[1]在校生数据2026!$E:$H,4,0) -> 511529200607220040 | F216: [112902]高等数学Ⅱ（2024护理（专）） | G216: 重新学习考试 | H216: 2026.10.24.10.24（周六）13:00-15:00 | I216: D402 | J216: ="""D://PIC//"&E216&".JPG""" -> "D://PIC//511529200607220040.JPG"
A217: 体育与大健康学院 | B217: 2024护理(专)10 | C217: 241070461024 | D217: 刘乙麟 | E217: =VLOOKUP(C217,[1]在校生数据2026!$E:$H,4,0) -> 510108200511260019 | F217: [112902]高等数学Ⅱ（2024护理（专）） | G217: 重新学习考试 | H217: 2026.10.24.10.24（周六）13:00-15:00 | I217: D402 | J217: ="""D://PIC//"&E217&".JPG""" -> "D://PIC//510108200511260019.JPG"
A218: 体育与大健康学院 | B218: 2024护理(专)10 | C218: 241070461027 | D218: 刘瑜畅 | E218: =VLOOKUP(C218,[1]在校生数据2026!$E:$H,4,0) -> 510132200605040033 | F218: [112902]高等数学Ⅱ（2024护理（专）） | G218: 重新学习考试 | H218: 2026.10.24.10.24（周六）13:00-15:00 | I218: D402 | J218: ="""D://PIC//"&E218&".JPG""" -> "D://PIC//510132200605040033.JPG"
A219: 体育与大健康学院 | B219: 2024护理(专)11 | C219: 241070461102 | D219: 姚诗漫 | E219: =VLOOKUP(C219,[1]在校生数据2026!$E:$H,4,0) -> 500382200607258303 | F219: [112902]高等数学Ⅱ（2024护理（专）） | G219: 重新学习考试 | H219: 2026.10.24.10.24（周六）13:00-15:00 | I219: D402 | J219: ="""D://PIC//"&E219&".JPG""" -> "D://PIC//500382200607258303.JPG"
A220: 体育与大健康学院 | B220: 2024护理(专)11 | C220: 241070461103 | D220: 闫煜婕 | E220: =VLOOKUP(C220,[1]在校生数据2026!$E:$H,4,0) -> 510802200601101767 | F220: [112902]高等数学Ⅱ（2024护理（专）） | G220: 重新学习考试 | H220: 2026.10.24.10.24（周六）13:00-15:00 | I220: D402 | J220: ="""D://PIC//"&E220&".JPG""" -> "D://PIC//510802200601101767.JPG"
A221: 体育与大健康学院 | B221: 2024护理(专)11 | C221: 241070461114 | D221: 钟茗涵 | E221: =VLOOKUP(C221,[1]在校生数据2026!$E:$H,4,0) -> 510603200610285946 | F221: [112902]高等数学Ⅱ（2024护理（专）） | G221: 重新学习考试 | H221: 2026.10.24.10.24（周六）13:00-15:00 | I221: D402 | J221: ="""D://PIC//"&E221&".JPG""" -> "D://PIC//510603200610285946.JPG"
A222: 体育与大健康学院 | B222: 2024护理(专)11 | C222: 241070461117 | D222: 邓佳妤 | E222: =VLOOKUP(C222,[1]在校生数据2026!$E:$H,4,0) -> 513125200505170024 | F222: [112902]高等数学Ⅱ（2024护理（专）） | G222: 重新学习考试 | H222: 2026.10.24.10.24（周六）13:00-15:00 | I222: D402 | J222: ="""D://PIC//"&E222&".JPG""" -> "D://PIC//513125200505170024.JPG"
A223: 体育与大健康学院 | B223: 2024护理(专)11 | C223: 241070461119 | D223: 杨婷逦 | E223: =VLOOKUP(C223,[1]在校生数据2026!$E:$H,4,0) -> 511725200603264228 | F223: [112902]高等数学Ⅱ（2024护理（专）） | G223: 重新学习考试 | H223: 2026.10.24.10.24（周六）13:00-15:00 | I223: D402 | J223: ="""D://PIC//"&E223&".JPG""" -> "D://PIC//511725200603264228.JPG"
... A272: 体育与大健康学院 | B272: 2024社会体育(专)4 | C272: 241070560420 | D272: 李帮友 | E272: =VLOOKUP(C272,[1]在校生数据2026!$E:$H,4,0) -> 510125200410060057 | F272: [142945]大学外语Ⅳ（英语 艺体专科） | G272: 重新学习考试 | H272: 2026.10.24.10.24（周六）09:00-11:00 | I272: D402 | J272: ="""D://PIC//"&E272&".JPG""" -> "D://PIC//510125200410060057.JPG"
A273: 体育与大健康学院 | E273: =VLOOKUP(C273,[1]在校生数据2026!$E:$H,4,0) -> #N/A
A274: 体育与大健康学院 | E274: =VLOOKUP(C274,[1]在校生数据2026!$E:$H,4,0) -> #N/A
A275: 体育与大健康学院 | E275: =VLOOKUP(C275,[1]在校生数据2026!$E:$H,4,0) -> #N/A
A276: 体育与大健康学院 | E276: =VLOOKUP(C276,[1]在校生数据2026!$E:$H,4,0) -> #N/A
A277: 文学院 | B277: 2024商务英语(专)1 | C277: 241050360145 | D277: 蒲东来 | E277: =VLOOKUP(C277,[1]在校生数据2026!$E:$H,4,0) -> 510704200606030010 | F277: 形势与政策 | G277: 重新学习考试 | H277: 2026年10月23日9:00-10月29日9:00 | I277: 在线课程测评平台：https://cdcass.taiskeji.com | J277: ="""D://PIC//"&E277&".JPG""" -> "D://PIC//510704200606030010.JPG"
A278: 文学院 | B278: 2024中文(专)1 | C278: 241010460131 | D278: 唐紫素 | E278: =VLOOKUP(C278,[1]在校生数据2026!$E:$H,4,0) -> 511923200503101235 | F278: [142943]大学外语Ⅳ（英语 普通专科） | G278: 重新学习考试 | H278: 2026.10.24.10.24（周六）09:00-11:00 | I278: D401 | J278: ="""D://PIC//"&E278&".JPG""" -> "D://PIC//511923200503101235.JPG"
A279: 文学院 | B279: 2024中文(专)10 | C279: 241010461027 | D279: 唐凯仁 | E279: =VLOOKUP(C279,[1]在校生数据2026!$E:$H,4,0) -> 511725200609080059 | F279: 形势与政策 | G279: 重新学习考试 | H279: 2026年10月23日9:00-10月29日9:00 | I279: 在线课程测评平台：https://cdcass.taiskeji.com | J279: ="""D://PIC//"&E279&".JPG""" -> "D://PIC//511725200609080059.JPG"
A280: 文学院 | B280: 2024中文(专)10 | C280: 241010461028 | D280: 童鑫云 | E280: =VLOOKUP(C280,[1]在校生数据2026!$E:$H,4,0) -> 510682200508091956 | F280: 形势与政策 | G280: 重新学习考试 | H280: 2026年10月23日9:00-10月29日9:00 | I280: 在线课程测评平台：https://cdcass.taiskeji.com | J280: ="""D://PIC//"&E280&".JPG""" -> "D://PIC//510682200508091956.JPG"
A281: 文学院 | B281: 2024中文(专)10 | C281: 241010461029 | D281: 马振超 | E281: =VLOOKUP(C281,[1]在校生数据2026!$E:$H,4,0) -> 411502200405260518 | F281: 形势与政策 | G281: 重新学习考试 | H281: 2026年10月23日9:00-10月29日9:00 | I281: 在线课程测评平台：https://cdcass.taiskeji.com | J281: ="""D://PIC//"&E281&".JPG""" -> "D://PIC//411502200405260518.JPG"
A282: 文学院 | B282: 2024中文(专)11 | C282: 241010461134 | D282: 蔡荣航 | E282: =VLOOKUP(C282,[1]在校生数据2026!$E:$H,4,0) -> 513426200601153219 | F282: [142943]大学外语Ⅳ（英语 普通专科） | G282: 重新学习考试 | H282: 2026.10.24.10.24（周六）09:00-11:00 | I282: D401 | J282: ="""D://PIC//"&E282&".JPG""" -> "D://PIC//513426200601153219.JPG"
A283: 文学院 | B283: 2024中文(专)3 | C283: 241010460303 | D283: 王玉鹏 | E283: =VLOOKUP(C283,[1]在校生数据2026!$E:$H,4,0) -> 652302200604122016 | F283: [080054]大学生科学技术通论 | G283: 重新学习考试 | H283: 2026.10.24.10.23（周五）15:20-17:20 | I283: D401 | J283: ="""D://PIC//"&E283&".JPG""" -> "D://PIC//652302200604122016.JPG"
A284: 文学院 | B284: 2024中文(专)4 | C284: 241010460407 | D284: 曹一凡 | E284: =VLOOKUP(C284,[1]在校生数据2026!$E:$H,4,0) -> 510303200503283412 | F284: 形势与政策 | G284: 重新学习考试 | H284: 2026年10月23日9:00-10月29日9:00 | I284: 在线课程测评平台：https://cdcass.taiskeji.com | J284: ="""D://PIC//"&E284&".JPG""" -> "D://PIC//510303200503283412.JPG"
A285: 文学院 | B285: 2024中文(专)4 | C285: 241010460407 | D285: 曹一凡 | E285: =VLOOKUP(C285,[1]在校生数据2026!$E:$H,4,0) -> 510303200503283412 | F285: [142943]大学外语Ⅳ（英语 普通专科） | G285: 重新学习考试 | H285: 2026.10.24.10.24（周六）09:00-11:00 | I285: D401 | J285: ="""D://PIC//"&E285&".JPG""" -> "D://PIC//510303200503283412.JPG"
A286: 文学院 | B286: 2024中文(专)4 | C286: 241010460432 | D286: 吴昊 | E286: =VLOOKUP(C286,[1]在校生数据2026!$E:$H,4,0) -> 510811200608073873 | F286: [142943]大学外语Ⅳ（英语 普通专科） | G286: 重新学习考试 | H286: 2026.10.24.10.24（周六）09:00-11:00 | I286: D401 | J286: ="""D://PIC//"&E286&".JPG""" -> "D://PIC//510811200608073873.JPG"
...
