Workbook

Sheet 名单
A1: 承担单位 | B1: 院(系)部 | C1: 年级 | D1: 专业 | E1: 行政班级 | F1: 学号 | G1: 姓名 | H1: 课程环节 | I1: 课程类型 | J1: 学分 | K1: 学年学期 | L1: 报名
A2: 马克思主义学院 | B2: 传媒与演艺学院 | C2: 2024 | D2: 播音与主持(专) | E2: 2024播音与主持(专)5 | F2: 231110560306 | G2: 张思颖 | H2: [13671123]形势与政策 | I2: 公共课 | K2: 2025-2026学年第一学期 | L2: 复学手动报名
A3: 马克思主义学院 | B3: 传媒与演艺学院 | C3: 2024 | D3: 播音与主持 | E3: 2024播音与主持(专)2 | F3: 241110560209 | G3: 卿晨 | H3: 形势与政策 | I3: 公共课 | K3: 2026-2027学年第一学期 | L3: 已报名
A4: 马克思主义学院 | B4: 传媒与演艺学院 | C4: 2024 | D4: 播音与主持 | E4: 2024播音与主持(专)2 | F4: 241110560228 | G4: 张佳宁 | H4: 形势与政策 | I4: 公共课 | K4: 2026-2027学年第一学期 | L4: 已报名
A5: 马克思主义学院 | B5: 传媒与演艺学院 | C5: 2024 | D5: 播音与主持 | E5: 2024播音与主持(专)2 | F5: 241110560234 | G5: 杨棕翔 | H5: 形势与政策 | I5: 公共课 | K5: 2026-2027学年第一学期 | L5: 已报名
A6: 马克思主义学院 | B6: 传媒与演艺学院 | C6: 2024 | D6: 播音与主持 | E6: 2024播音与主持(专)5 | F6: 221110560107 | G6: 吕易苍 | H6: 形势与政策 | I6: 公共课 | K6: 2026-2027学年第一学期 | L6: 已报名
A7: 马克思主义学院 | B7: 传媒与演艺学院 | C7: 2024 | D7: 舞蹈表演 | E7: 2024舞蹈表演(专)2 | F7: 221110660126 | G7: 叶倩 | H7: 形势与政策 | I7: 公共课 | K7: 2026-2027学年第一学期 | L7: 已报名
A8: 马克思主义学院 | B8: 传媒与演艺学院 | C8: 2024 | D8: 音乐表演 | E8: 2024音乐表演(专)1 | F8: 231110760104 | G8: 康卓 | H8: 形势与政策 | I8: 公共课 | K8: 2026-2027学年第一学期 | L8: 已报名
A9: 马克思主义学院 | B9: 传媒与演艺学院 | C9: 2024 | D9: 音乐表演 | E9: 2024音乐表演(专)1 | F9: 241110760105 | G9: 左麟义 | H9: 形势与政策 | I9: 公共课 | K9: 2026-2027学年第一学期 | L9: 已报名
A10: 马克思主义学院 | B10: 传媒与演艺学院 | C10: 2024 | D10: 音乐表演 | E10: 2024音乐表演(专)2 | F10: 221110760229 | G10: 谌旺江 | H10: 形势与政策 | I10: 公共课 | K10: 2026-2027学年第一学期 | L10: 已报名
A11: 马克思主义学院 | B11: 传媒与演艺学院 | C11: 2024 | D11: 音乐表演 | E11: 2024音乐表演(专)2 | F11: 231110760213 | G11: 彭佳昱 | H11: 形势与政策 | I11: 公共课 | K11: 2026-2027学年第一学期 | L11: 已报名
A12: 马克思主义学院 | B12: 传媒与演艺学院 | C12: 2024 | D12: 音乐表演 | E12: 2024音乐表演(专)2 | F12: 241110760225 | G12: 罗梓豪 | H12: 形势与政策 | I12: 公共课 | K12: 2026-2027学年第一学期 | L12: 已报名
A13: 马克思主义学院 | B13: 会计学院 | C13: 2024 | D13: 大数据与会计 | E13: 2024大数据与会计(专)4 | F13: 241040560424 | G13: 张昕怡 | H13: 形势与政策 | I13: 公共课 | K13: 2026-2027学年第一学期 | L13: 已报名
A14: 马克思主义学院 | B14: 会计学院 | C14: 2024 | D14: 大数据与会计 | E14: 2024大数据与会计(专)5 | F14: 231040560313 | G14: 比曲色轨 | H14: 形势与政策 | I14: 公共课 | K14: 2026-2027学年第一学期 | L14: 已报名
... A44: 马克思主义学院 | B44: 艺术设计与城市更新学院 | C44: 2024 | D44: 建设工程管理 | E44: 2024建设工程管理(专)2 | F44: 241090460237 | G44: 彭柯然 | H44: 形势与政策 | I44: 公共课 | K44: 2026-2027学年第一学期 | L44: 已报名
A45: 数智经济与管理学院 | B45: 人工智能与大数据学院 | C45: 2024 | D45: 计算机应用技术(专) | E45: 2024计算机应用技术(专)1 | F45: 221060560437 | G45: 李昊宇 | H45: [112902]高等数学Ⅱ | I45: 公共课 | J45: 4.0 | K45: 2025-2026学年第二学期 | L45: 已报名
A46: 数智经济与管理学院 | B46: 人工智能与大数据学院 | C46: 2024 | D46: 计算机应用技术(专) | E46: 2024计算机应用技术(专)1 | F46: 241060560102 | G46: 李语蕊 | H46: [112902]高等数学Ⅱ | I46: 公共课 | J46: 4.0 | K46: 2025-2026学年第二学期 | L46: 已报名
A47: 数智经济与管理学院 | B47: 人工智能与大数据学院 | C47: 2024 | D47: 计算机应用技术(专) | E47: 2024计算机应用技术(专)1 | F47: 241060560104 | G47: 杨蕊 | H47: [112902]高等数学Ⅱ | I47: 公共课 | J47: 4.0 | K47: 2025-2026学年第二学期 | L47: 已报名
A48: 数智经济与管理学院 | B48: 人工智能与大数据学院 | C48: 2024 | D48: 计算机应用技术(专) | E48: 2024计算机应用技术(专)1 | F48: 241060560107 | G48: 王怡 | H48: [112902]高等数学Ⅱ | I48: 公共课 | J48: 4.0 | K48: 2025-2026学年第二学期 | L48: 已报名
A49: 数智经济与管理学院 | B49: 人工智能与大数据学院 | C49: 2024 | D49: 计算机应用技术(专) | E49: 2024计算机应用技术(专)1 | F49: 241060560110 | G49: 苗国洋 | H49: [112902]高等数学Ⅱ | I49: 公共课 | J49: 4.0 | K49: 2025-2026学年第二学期 | L49: 已报名
A50: 数智经济与管理学院 | B50: 人工智能与大数据学院 | C50: 2024 | D50: 计算机应用技术(专) | E50: 2024计算机应用技术(专)1 | F50: 241060560112 | G50: 陈家顺 | H50: [112902]高等数学Ⅱ | I50: 公共课 | J50: 4.0 | K50: 2025-2026学年第二学期 | L50: 已报名
A51: 数智经济与管理学院 | B51: 人工智能与大数据学院 | C51: 2024 | D51: 计算机应用技术(专) | E51: 2024计算机应用技术(专)1 | F51: 241060560115 | G51: 杨金书 | H51: [112902]高等数学Ⅱ | I51: 公共课 | J51: 4.0 | K51: 2025-2026学年第二学期 | L51: 已报名
A52: 数智经济与管理学院 | B52: 人工智能与大数据学院 | C52: 2024 | D52: 计算机应用技术(专) | E52: 2024计算机应用技术(专)1 | F52: 241060560120 | G52: 李豪 | H52: [112902]高等数学Ⅱ | I52: 公共课 | J52: 4.0 | K52: 2025-2026学年第二学期 | L52: 已报名
A53: 数智经济与管理学院 | B53: 人工智能与大数据学院 | C53: 2024 | D53: 计算机应用技术(专) | E53: 2024计算机应用技术(专)1 | F53: 241060560122 | G53: 蒋翰辉 | H53: [112902]高等数学Ⅱ | I53: 公共课 | J53: 4.0 | K53: 2025-2026学年第二学期 | L53: 已报名
A54: 数智经济与管理学院 | B54: 人工智能与大数据学院 | C54: 2024 | D54: 计算机应用技术(专) | E54: 2024计算机应用技术(专)1 | F54: 241060560124 | G54: 曾语衡 | H54: [112902]高等数学Ⅱ | I54: 公共课 | J54: 4.0 | K54: 2025-2026学年第二学期 | L54: 已报名
A55: 数智经济与管理学院 | B55: 人工智能与大数据学院 | C55: 2024 | D55: 计算机应用技术(专) | E55: 2024计算机应用技术(专)1 | F55: 241060560128 | G55: 李咏金 | H55: [112902]高等数学Ⅱ | I55: 公共课 | J55: 4.0 | K55: 2025-2026学年第二学期 | L55: 已报名
A56: 数智经济与管理学院 | B56: 人工智能与大数据学院 | C56: 2024 | D56: 计算机应用技术(专) | E56: 2024计算机应用技术(专)1 | F56: 241060560129 | G56: 李涛涛 | H56: [112902]高等数学Ⅱ | I56: 公共课 | J56: 4.0 | K56: 2025-2026学年第二学期 | L56: 已报名
... A198: 素质教育中心 | B198: 传媒与演艺学院 | C198: 2024 | D198: 音乐表演（专） | E198: 2024音乐表演(专)1 | F198: 231110760104 | G198: 康卓 | H198: [080051]大学生职业素养与人生规划Ⅴ | I198: 公共课 | J198: 0.5 | K198: 2026-2027学年第一学期 | L198: 已报名
A199: 素质教育中心 | B199: 传媒与演艺学院 | C199: 2024 | D199: 播音与主持(专) | E199: 2024播音与主持(专)5 | F199: 231110560306 | G199: 张思颖 | H199: [080051]大学生职业素养与人生规划Ⅴ | I199: 公共课 | J199: 0.5 | K199: 2025-2026学年第一学期 | L199: 复学手动报名
A200: 素质教育中心 | B200: 传媒与演艺学院 | C200: 2024 | D200: 播音与主持(专) | E200: 2024播音与主持(专)2 | F200: 241110560234 | G200: 杨棕翔 | H200: [080054]大学生科学技术通论 | I200: 公共课 | J200: 2.0 | K200: 2025-2026学年第二学期 | L200: 已报名
A201: 素质教育中心 | B201: 传媒与演艺学院 | C201: 2024 | D201: 音乐表演（专） | E201: 2024音乐表演(专)1 | F201: 231110760104 | G201: 康卓 | H201: [080054]大学生科学技术通论 | I201: 公共课 | J201: 2.0 | K201: 2025-2026学年第二学期 | L201: 已报名
A202: 素质教育中心 | B202: 人工智能与大数据学院 | C202: 2024 | D202: 计算机应用技术(专) | E202: 2024计算机应用技术(专)8 | F202: 241060560805 | G202: 灌福翔 | H202: [080044]大学生职业素养与人生规划Ⅳ | I202: 公共课 | J202: 0.5 | K202: 2025-2026学年第二学期 | L202: 已报名
A203: 素质教育中心 | B203: 人工智能与大数据学院 | C203: 2024 | D203: 计算机应用技术(专) | E203: 2024计算机应用技术(专)8 | F203: 241060560805 | G203: 灌福翔 | H203: [080051]大学生职业素养与人生规划Ⅴ | I203: 公共课 | J203: 0.5 | K203: 2026-2027学年第一学期 | L203: 已报名
A204: 素质教育中心 | B204: 人工智能与大数据学院 | C204: 2024 | D204: 计算机应用技术(专) | E204: 2024计算机应用技术(专)5 | F204: 241060560528 | G204: 郑斯引 | H204: [080054]大学生科学技术通论 | I204: 公共课 | J204: 2.0 | K204: 2025-2026学年第二学期 | L204: 已报名
A205: 素质教育中心 | B205: 人工智能与大数据学院 | C205: 2024 | D205: 计算机应用技术(专) | E205: 2024计算机应用技术(专)8 | F205: 241060560805 | G205: 灌福翔 | H205: [080054]大学生科学技术通论 | I205: 公共课 | J205: 2.0 | K205: 2025-2026学年第二学期 | L205: 已报名
A206: 素质教育中心 | B206: 人工智能与大数据学院 | C206: 2024 | D206: 计算机应用技术(专) | E206: 2024计算机应用技术(专)9 | F206: 231060560636 | G206: 李林涛 | H206: [080054]大学生科学技术通论 | I206: 公共课 | J206: 2.0 | K206: 2025-2026学年第二学期 | L206: 已报名
A207: 素质教育中心 | B207: 人工智能与大数据学院 | C207: 2024 | D207: 数字媒体技术(专) | E207: 2024数字媒体技术(专)6 | F207: 241060860621 | G207: 曹岚楠 | H207: [080054]大学生科学技术通论 | I207: 公共课 | J207: 2.0 | K207: 2025-2026学年第二学期 | L207: 已报名
A208: 素质教育中心 | B208: 人工智能与大数据学院 | C208: 2024 | D208: 信息安全技术应用(专) | E208: 2024信息安全技术应用(专)1 | F208: 241090460215 | G208: 杜杰康 | H208: [080054]大学生科学技术通论 | I208: 公共课 | J208: 2.0 | K208: 2025-2026学年第二学期 | L208: 已报名
A209: 素质教育中心 | B209: 文学院 | C209: 2024 | D209: 中文(专) | E209: 2024中文(专)3 | F209: 241010460303 | G209: 王玉鹏 | H209: [080054]大学生科学技术通论 | I209: 公共课 | J209: 2.0 | K209: 2025-2026学年第二学期 | L209: 已报名
A210: 文学院 | B210: 传媒与演艺学院 | C210: 2024 | D210: 播音与主持(专) | E210: 2024播音与主持(专)1 | F210: 241110560107 | G210: 宋治宏 | H210: [142945]大学外语Ⅳ（英语 艺体专科） | I210: 公共课 | J210: 3.0 | K210: 2025-2026学年第二学期 | L210: 已报名
...

Sheet 上课安排
A1: 承担单位 | B1: 年级 | C1: 专业 | D1: 课程环节 | E1: 学年学期 | F1: 学分 | G1: 人数 | H1: 类别 | I1: 形式（开班/辅导/跟听） | J1: 任课老师 | K1: 上课时间（10月19-23日）线上授课 | L1: 上课地点 | M1: 课时量 | N1: 备注（重修班QQ群号/老师联系方式）
A2: 素质教育中心 | B2: 2024 | C2: 公共课 | D2: [080044]大学生职业素养与人生规划Ⅳ | E2: 2025-2026学年第二学期 | F2: 0.5 | G2: 5 | H2: 重新学习 | I2: 线上辅导 | J2: 徐杏 | K2: 10月19日晚第10-11节 | L2: QQ群课堂 | M2: 2 | N2: QQ群号：1078744701
A3: 素质教育中心 | B3: 2024 | C3: 公共课 | D3: [080051]大学生职业素养与人生规划Ⅴ | E3: 2025-2026学年第一学期 | F3: 0.5 | G3: 3 | H3: 重新学习 | I3: 线上辅导
A4: 素质教育中心 | B4: 2024 | C4: 公共课 | D4: [080054]大学生科学技术通论 | E4: 2025-2026学年第二学期 | F4: 2 | G4: 11 | H4: 重新学习 | I4: 线上辅导 | J4: 张琼 | K4: 10月20日晚10-12节，10月21日晚10-11节 | L4: 腾讯会议 | M4: 5 | N4: QQ群号：1083870999
A5: 文学院 | B5: 2024 | C5: 公共课 | D5: [142943]大学外语Ⅳ（英语 普通专科） | E5: 2025-2026学年第二学期 | F5: 3 | G5: 22 | H5: 重新学习 | I5: 线上辅导 | J5: 王琴 | K5: 10月19日1-8节 | L5: QQ群课堂 | M5: 8 | N5: QQ群号：876594343
A6: 文学院 | B6: 2024 | C6: 公共课 | D6: [142945]大学外语Ⅳ（英语 艺体专科） | E6: 2025-2026学年第二学期 | F6: 3 | G6: 29 | H6: 重新学习 | I6: 线上辅导 | J6: 王琴 | K6: 10月23日1-8节 | L6: QQ群课堂 | M6: 8 | N6: QQ群号：876594343
A7: 马克思主义学院 | B7: 2024 | C7: 公共课 | D7: [13671123]形势与政策 | E7: 2025-2026学年第一学期 | G7: 1 | H7: 重新学习 | I7: 线上辅导 | J7: 陈丽萍 | K7: 10月19-23日 | L7: 英华学堂 | M7: 1 | N7: QQ群号答疑1121086478
A8: 马克思主义学院 | B8: 2024 | C8: 公共课 | D8: 形势与政策 | E8: 2026-2027学年第一学期 | G8: 48 | H8: 重新学习 | I8: 线上辅导
A9: 理工学院 | B9: 2024 | C9: 公共课 | D9: [112902]高等数学Ⅱ | E9: 2025-2026学年第二学期 | F9: 4 | G9: 48人（2024云计算技术应用（专）、 信息安全技术应用（专）、 建设工程管理（专）、城乡规划（专）） | H9: 重新学习 | I9: 线上辅导 | J9: 宋建军 | K9: 10月20号1-4节，10月21号5-10节 | L9: QQ群课堂 | M9: 10 | N9: QQ群：766201232
A10: 理工学院 | B10: 2024 | C10: 公共课 | D10: [112902]高等数学Ⅱ | E10: 2025-2026学年第二学期 | F10: 4 | G10: 54人（2024护理（专）） | H10: 重新学习 | I10: 线上辅导 | J10: 吴莉华 | K10: 10月19日 1-8节，10月21日 10-11节 | L10: QQ群课堂 | M10: 10 | N10: qq号：852187501
A11: 理工学院 | B11: 2024 | C11: 公共课 | D11: [112902]高等数学Ⅱ | E11: 2025-2026学年第二学期 | F11: 4 | G11: 52人（2024数字媒体技术（专）、计算机应用技术（专）1-2班） | H11: 重新学习 | I11: 线上辅导 | J11: 黄知梅 | K11: 10月21日10-11节，10月22日1-8节 | L11: 腾讯会议 | M11: 10 | N11: 腾讯会议:136575514，qq群1128094620
A12: 理工学院 | B12: 2024 | C12: 公共课 | D12: [112902]高等数学Ⅱ | E12: 2025-2026学年第二学期 | F12: 4 | G12: 54人（计算机应用技术3-12班） | H12: 重新学习 | I12: 线上辅导 | J12: 夏嫦 | K12: 10月21日10-11节，10月23日1-8节 | L12: QQ群课堂 | M12: 10 | N12: QQ群号：837048368

Sheet 考试安排
A1: 承担单位 | B1: 年级 | C1: 专业 | D1: 课程环节 | E1: 学年学期 | F1: 学分 | G1: 人数 | H1: 类型 | I1: 考试时间 | J1: 考试地点 | K1: 部门 | L1: 监考老师一 | M1: 部门 | N1: 监考老师二 | O1: 考务
A2: 素质教育中心 | B2: 2024 | C2: 公共课 | D2: [080044]大学生职业素养与人生规划Ⅳ | E2: 2025-2026学年第二学期 | F2: 0.5 | G2: 5 | H2: 重新学习考试 | I2: 2026.10.23（周五）09:00-11:00 | J2: D301 | K2: 传媒与演艺学院 | L2: 缪佳栖 | M2: 体育与大健康学院 | N2: 胡林林 | O2: 吴其应
A3: 素质教育中心 | B3: 2024 | C3: 公共课 | D3: [080051]大学生职业素养与人生规划Ⅴ | E3: 2025-2026学年第一学期 | F3: 0.5 | G3: 3 | H3: 重新学习考试 | I3: 2026.10.23（周五）13:00-15:00 | J3: D404 | K3: 传媒与演艺学院 | L3: 缪佳栖 | M3: 体育与大健康学院 | N3: 张媛媛 | O3: 李尔康
A4: 素质教育中心 | B4: 2024 | C4: 公共课 | D4: [080054]大学生科学技术通论 | E4: 2025-2026学年第二学期 | F4: 2 | G4: 11 | H4: 重新学习考试 | I4: 2026.10.23（周五）15:20-17:20 | J4: D401 | K4: 传媒与演艺学院 | L4: 缪佳栖 | M4: 教育学院 | N4: 舒鑫宇 | O4: 王婷
A5: 文学院 | B5: 2024 | C5: 公共课 | D5: [142943]大学外语Ⅳ（英语 普通专科） | E5: 2025-2026学年第二学期 | F5: 3 | G5: 22 | H5: 重新学习考试 | I5: 2026.10.24（周六）09:00-11:00 | J5: D401 | K5: 传媒与演艺学院 | L5: 缪佳栖 | M5: 人事处 | N5: 王延凯 | O5: 王渝
A6: 文学院 | B6: 2024 | C6: 公共课 | D6: [142945]大学外语Ⅳ（英语 艺体专科） | E6: 2025-2026学年第二学期 | F6: 3 | G6: 29 | H6: 重新学习考试 | I6: 2026.10.24（周六）09:00-11:00 | J6: D402 | K6: 财务处 | L6: 张欢 | M6: 财务处 | N6: 丁冲宇
A7: 理工学院 | B7: 2024 | C7: 公共课 | D7: [112902]高等数学Ⅱ（2024云计算技术应用（专）、 信息安全技术应用（专）、 建设工程管理（专）、城乡规划（专）） | E7: 2025-2026学年第二学期 | F7: 4 | G7: 48 | H7: 重新学习考试 | I7: 2026.10.24（周六）13:00-15:00 | J7: D401 | K7: 传媒与演艺学院 | L7: 缪佳栖 | M7: 体育与大健康学院 | N7: 邓静娴 | O7: 王怀宇
A8: 理工学院 | B8: 2024 | C8: 公共课 | D8: [112902]高等数学Ⅱ（2024护理（专）） | E8: 2025-2026学年第二学期 | F8: 4 | G8: 54 | H8: 重新学习考试 | I8: 2026.10.24（周六）13:00-15:00 | J8: D402 | K8: 教育学院 | L8: 何菲菲 | M8: 体育与大健康学院 | N8: 胡夏立
A9: 理工学院 | B9: 2024 | C9: 公共课 | D9: [112902]高等数学Ⅱ（2024数字媒体技术（专）、计算机应用技术（专）1-2班） | E9: 2025-2026学年第二学期 | F9: 4 | G9: 52 | H9: 重新学习考试 | I9: 2026.10.24（周六）13:00-15:00 | J9: D403 | K9: 人事处 | L9: 王延凯 | M9: 校长办公室 | N9: 韩明月
A10: 理工学院 | B10: 2024 | C10: 公共课 | D10: [112902]高等数学Ⅱ（计算机应用技术3-12班） | E10: 2025-2026学年第二学期 | F10: 4 | G10: 54 | H10: 重新学习考试 | I10: 2026.10.24（周六）13:00-15:00 | J10: D404 | K10: 教育学院 | L10: 舒鑫宇 | M10: 体育与大健康学院 | N10: 冯杰
A11: 马克思主义学院 | B11: 2024 | C11: 公共课 | D11: [13671123]形势与政策 | E11: 2025-2026学年第一学期 | G11: 49 | H11: 重新学习考试 | I11: 2026年10月23日9:00-10月29日9:00 | J11: 在线课程测评平台：https://cdcass.taiskeji.com | K11: 马克思主义学院 | L11: 陈丽萍
A12: 马克思主义学院 | B12: 2024 | C12: 公共课 | D12: 形势与政策 | E12: 2026-2027学年第一学期

Sheet 签到册
A1: 学院 | B1: 行政班级 | C1: 学号 | D1: 姓名 | E1: 课程环节 | F1: 类型 | G1: 考试时间 | H1: 考试地点 | I1: 考生签到 | J1: 平时成绩 | K1: 卷面成绩 | L1: 综合成绩 | M1: 阅卷老师
A2: 传媒与演艺学院 | B2: 2024播音与主持(专)5 | C2: 231110560306 | D2: 张思颖 | E2: [13671123]形势与政策 | F2: 重新学习考试 | G2: 2026年10月23日9:00-10月29日9:00 | H2: =VLOOKUP(E2,考试安排!D:J,7,0) -> 在线课程测评平台：https://cdcass.taiskeji.com
A3: 传媒与演艺学院 | B3: 2024播音与主持(专)2 | C3: 241110560209 | D3: 卿晨 | E3: 形势与政策 | F3: 重新学习考试 | G3: 2026年10月23日9:00-10月29日9:00 | H3: 在线课程测评平台：https://cdcass.taiskeji.com
A4: 传媒与演艺学院 | B4: 2024播音与主持(专)2 | C4: 241110560228 | D4: 张佳宁 | E4: 形势与政策 | F4: 重新学习考试 | G4: 2026年10月23日9:00-10月29日9:00 | H4: 在线课程测评平台：https://cdcass.taiskeji.com
A5: 传媒与演艺学院 | B5: 2024播音与主持(专)2 | C5: 241110560234 | D5: 杨棕翔 | E5: 形势与政策 | F5: 重新学习考试 | G5: 2026年10月23日9:00-10月29日9:00 | H5: 在线课程测评平台：https://cdcass.taiskeji.com
A6: 传媒与演艺学院 | B6: 2024播音与主持(专)5 | C6: 221110560107 | D6: 吕易苍 | E6: 形势与政策 | F6: 重新学习考试 | G6: 2026年10月23日9:00-10月29日9:00 | H6: 在线课程测评平台：https://cdcass.taiskeji.com
A7: 传媒与演艺学院 | B7: 2024舞蹈表演(专)2 | C7: 221110660126 | D7: 叶倩 | E7: 形势与政策 | F7: 重新学习考试 | G7: 2026年10月23日9:00-10月29日9:00 | H7: 在线课程测评平台：https://cdcass.taiskeji.com
A8: 传媒与演艺学院 | B8: 2024音乐表演(专)1 | C8: 231110760104 | D8: 康卓 | E8: 形势与政策 | F8: 重新学习考试 | G8: 2026年10月23日9:00-10月29日9:00 | H8: 在线课程测评平台：https://cdcass.taiskeji.com
A9: 传媒与演艺学院 | B9: 2024音乐表演(专)1 | C9: 241110760105 | D9: 左麟义 | E9: 形势与政策 | F9: 重新学习考试 | G9: 2026年10月23日9:00-10月29日9:00 | H9: 在线课程测评平台：https://cdcass.taiskeji.com
A10: 传媒与演艺学院 | B10: 2024音乐表演(专)2 | C10: 221110760229 | D10: 谌旺江 | E10: 形势与政策 | F10: 重新学习考试 | G10: 2026年10月23日9:00-10月29日9:00 | H10: 在线课程测评平台：https://cdcass.taiskeji.com
A11: 传媒与演艺学院 | B11: 2024音乐表演(专)2 | C11: 231110760213 | D11: 彭佳昱 | E11: 形势与政策 | F11: 重新学习考试 | G11: 2026年10月23日9:00-10月29日9:00 | H11: 在线课程测评平台：https://cdcass.taiskeji.com
A12: 传媒与演艺学院 | B12: 2024音乐表演(专)2 | C12: 241110760225 | D12: 罗梓豪 | E12: 形势与政策 | F12: 重新学习考试 | G12: 2026年10月23日9:00-10月29日9:00 | H12: 在线课程测评平台：https://cdcass.taiskeji.com
A13: 会计学院 | B13: 2024大数据与会计(专)4 | C13: 241040560424 | D13: 张昕怡 | E13: 形势与政策 | F13: 重新学习考试 | G13: 2026年10月23日9:00-10月29日9:00 | H13: 在线课程测评平台：https://cdcass.taiskeji.com
A14: 会计学院 | B14: 2024大数据与会计(专)5 | C14: 231040560313 | D14: 比曲色轨 | E14: 形势与政策 | F14: 重新学习考试 | G14: 2026年10月23日9:00-10月29日9:00 | H14: 在线课程测评平台：https://cdcass.taiskeji.com
... A44: 艺术设计与城市更新学院 | B44: 2024建设工程管理(专)2 | C44: 241090460237 | D44: 彭柯然 | E44: 形势与政策 | F44: 重新学习考试 | G44: 2026年10月23日9:00-10月29日9:00 | H44: 在线课程测评平台：https://cdcass.taiskeji.com
A45: 人工智能与大数据学院 | B45: 2024计算机应用技术(专)1 | C45: 221060560437 | D45: 李昊宇 | E45: [112902]高等数学Ⅱ（2024数字媒体技术（专）、计算机应用技术（专）1-2班） | F45: 重新学习考试 | G45: =VLOOKUP(E45,考试安排!D:I,6,0) -> 2026.10.24（周六）13:00-15:00 | H45: =VLOOKUP(E45,考试安排!D:J,7,0) -> D403
A46: 人工智能与大数据学院 | B46: 2024计算机应用技术(专)1 | C46: 241060560102 | D46: 李语蕊 | E46: [112902]高等数学Ⅱ（2024数字媒体技术（专）、计算机应用技术（专）1-2班） | F46: 重新学习考试 | G46: =VLOOKUP(E46,考试安排!D:I,6,0) -> 2026.10.24（周六）13:00-15:00 | H46: =VLOOKUP(E46,考试安排!D:J,7,0) -> D403
A47: 人工智能与大数据学院 | B47: 2024计算机应用技术(专)1 | C47: 241060560104 | D47: 杨蕊 | E47: [112902]高等数学Ⅱ（2024数字媒体技术（专）、计算机应用技术（专）1-2班） | F47: 重新学习考试 | G47: =VLOOKUP(E47,考试安排!D:I,6,0) -> 2026.10.24（周六）13:00-15:00 | H47: =VLOOKUP(E47,考试安排!D:J,7,0) -> D403
A48: 人工智能与大数据学院 | B48: 2024计算机应用技术(专)1 | C48: 241060560107 | D48: 王怡 | E48: [112902]高等数学Ⅱ（2024数字媒体技术（专）、计算机应用技术（专）1-2班） | F48: 重新学习考试 | G48: =VLOOKUP(E48,考试安排!D:I,6,0) -> 2026.10.24（周六）13:00-15:00 | H48: =VLOOKUP(E48,考试安排!D:J,7,0) -> D403
A49: 人工智能与大数据学院 | B49: 2024计算机应用技术(专)1 | C49: 241060560110 | D49: 苗国洋 | E49: [112902]高等数学Ⅱ（2024数字媒体技术（专）、计算机应用技术（专）1-2班） | F49: 重新学习考试 | G49: =VLOOKUP(E49,考试安排!D:I,6,0) -> 2026.10.24（周六）13:00-15:00 | H49: =VLOOKUP(E49,考试安排!D:J,7,0) -> D403
A50: 人工智能与大数据学院 | B50: 2024计算机应用技术(专)1 | C50: 241060560112 | D50: 陈家顺 | E50: [112902]高等数学Ⅱ（2024数字媒体技术（专）、计算机应用技术（专）1-2班） | F50: 重新学习考试 | G50: =VLOOKUP(E50,考试安排!D:I,6,0) -> 2026.10.24（周六）13:00-15:00 | H50: =VLOOKUP(E50,考试安排!D:J,7,0) -> D403
A51: 人工智能与大数据学院 | B51: 2024计算机应用技术(专)1 | C51: 241060560115 | D51: 杨金书 | E51: [112902]高等数学Ⅱ（2024数字媒体技术（专）、计算机应用技术（专）1-2班） | F51: 重新学习考试 | G51: =VLOOKUP(E51,考试安排!D:I,6,0) -> 2026.10.24（周六）13:00-15:00 | H51: =VLOOKUP(E51,考试安排!D:J,7,0) -> D403
A52: 人工智能与大数据学院 | B52: 2024计算机应用技术(专)1 | C52: 241060560120 | D52: 李豪 | E52: [112902]高等数学Ⅱ（2024数字媒体技术（专）、计算机应用技术（专）1-2班） | F52: 重新学习考试 | G52: =VLOOKUP(E52,考试安排!D:I,6,0) -> 2026.10.24（周六）13:00-15:00 | H52: =VLOOKUP(E52,考试安排!D:J,7,0) -> D403
A53: 人工智能与大数据学院 | B53: 2024计算机应用技术(专)1 | C53: 241060560122 | D53: 蒋翰辉 | E53: [112902]高等数学Ⅱ（2024数字媒体技术（专）、计算机应用技术（专）1-2班） | F53: 重新学习考试 | G53: =VLOOKUP(E53,考试安排!D:I,6,0) -> 2026.10.24（周六）13:00-15:00 | H53: =VLOOKUP(E53,考试安排!D:J,7,0) -> D403
A54: 人工智能与大数据学院 | B54: 2024计算机应用技术(专)1 | C54: 241060560124 | D54: 曾语衡 | E54: [112902]高等数学Ⅱ（2024数字媒体技术（专）、计算机应用技术（专）1-2班） | F54: 重新学习考试 | G54: =VLOOKUP(E54,考试安排!D:I,6,0) -> 2026.10.24（周六）13:00-15:00 | H54: =VLOOKUP(E54,考试安排!D:J,7,0) -> D403
A55: 人工智能与大数据学院 | B55: 2024计算机应用技术(专)1 | C55: 241060560128 | D55: 李咏金 | E55: [112902]高等数学Ⅱ（2024数字媒体技术（专）、计算机应用技术（专）1-2班） | F55: 重新学习考试 | G55: =VLOOKUP(E55,考试安排!D:I,6,0) -> 2026.10.24（周六）13:00-15:00 | H55: =VLOOKUP(E55,考试安排!D:J,7,0) -> D403
A56: 人工智能与大数据学院 | B56: 2024计算机应用技术(专)1 | C56: 241060560129 | D56: 李涛涛 | E56: [112902]高等数学Ⅱ（2024数字媒体技术（专）、计算机应用技术（专）1-2班） | F56: 重新学习考试 | G56: =VLOOKUP(E56,考试安排!D:I,6,0) -> 2026.10.24（周六）13:00-15:00 | H56: =VLOOKUP(E56,考试安排!D:J,7,0) -> D403
... A321: 会计学院 | B321: 2024大数据与会计(专)1 | C321: 241040560110 | D321: 吕思妍 | E321: [080054]大学生科学技术通论 | F321: 重新学习考试 | G321: =VLOOKUP(E321,考试安排!D:I,6,0) -> 2026.10.23（周五）15:20-17:20 | H321: =VLOOKUP(E321,考试安排!D:J,7,0) -> D401
A322: 传媒与演艺学院 | B322: 2024音乐表演(专)1 | C322: 231110760110 | D322: 唐旗 | E322: 形势与政策 | F322: 重新学习考试 | G322: 2026年10月23日9:00-10月29日9:00 | H322: 在线课程测评平台：https://cdcass.taiskeji.com
A323: 传媒与演艺学院 | B323: 2024音乐表演(专)1 | C323: 241110760102 | D323: 侯永平 | E323: 形势与政策 | F323: 重新学习考试 | G323: 2026年10月23日9:00-10月29日9:00 | H323: 在线课程测评平台：https://cdcass.taiskeji.com
A324: 会计学院 | B324: 2024大数据与会计(专)7 | C324: 241040560729 | D324: 张志国 | E324: 形势与政策 | F324: 重新学习考试 | G324: 2026年10月23日9:00-10月29日9:00 | H324: 在线课程测评平台：https://cdcass.taiskeji.com
A325: 艺术设计与城市更新学院 | B325: 2024广告艺术设计(专)1 | C325: 241020860101 | D325: 王裕 | E325: 形势与政策 | F325: 重新学习考试 | G325: 2026年10月23日9:00-10月29日9:00 | H325: 在线课程测评平台：https://cdcass.taiskeji.com
A326: 艺术设计与城市更新学院 | B326: 2024广告艺术设计(专)2 | C326: 231020860234 | D326: 刘雨欣 | E326: 形势与政策 | F326: 重新学习考试 | G326: 2026年10月23日9:00-10月29日9:00 | H326: 在线课程测评平台：https://cdcass.taiskeji.com
A327: 艺术设计与城市更新学院 | B327: 2024环境艺术设计(专)5 | C327: 241020960526 | D327: 陈廷兢 | E327: 形势与政策 | F327: 重新学习考试 | G327: 2026年10月23日9:00-10月29日9:00 | H327: 在线课程测评平台：https://cdcass.taiskeji.com
A328: 人工智能与大数据学院 | B328: 2024计算机应用技术(专)2 | C328: 221060560133 | D328: 康书博 | E328: [112902]高等数学Ⅱ（2024数字媒体技术（专）、计算机应用技术（专）1-2班） | F328: 重新学习考试 | G328: =VLOOKUP(E328,考试安排!D:I,6,0) -> 2026.10.24（周六）13:00-15:00 | H328: =VLOOKUP(E328,考试安排!D:J,7,0) -> D403

Sheet 准考证
A1: 学院 | B1: 班级 | C1: 学号 | D1: 姓名 | E1: 身份证号 | F1: 课程环节 | G1: 类型 | H1: 时间 | I1: 地点 | J1: 照片
A2: 传媒与演艺学院 | B2: 2024播音与主持(专)1 | C2: 241110560107 | D2: 宋治宏 | E2: =VLOOKUP(C2,[1]在校生数据2026!$E:$H,4,0) -> 130823200504160037 | F2: [142945]大学外语Ⅳ（英语 艺体专科） | G2: 重新学习考试 | H2: 2026.10.24.10.24（周六）09:00-11:00 | I2: D402 | J2: ="""D://PIC//"&E2&".JPG""" -> "D://PIC//130823200504160037.JPG"
A3: 传媒与演艺学院 | B3: 2024播音与主持(专)2 | C3: 241110560207 | D3: 刘昶炫 | E3: =VLOOKUP(C3,[1]在校生数据2026!$E:$H,4,0) -> 130635200702170855 | F3: [142945]大学外语Ⅳ（英语 艺体专科） | G3: 重新学习考试 | H3: 2026.10.24.10.24（周六）09:00-11:00 | I3: D402 | J3: ="""D://PIC//"&E3&".JPG""" -> "D://PIC//130635200702170855.JPG"
A4: 传媒与演艺学院 | B4: 2024播音与主持(专)2 | C4: 241110560209 | D4: 卿晨 | E4: =VLOOKUP(C4,[1]在校生数据2026!$E:$H,4,0) -> 51032220051026573X | F4: 形势与政策 | G4: 重新学习考试 | H4: 2026年10月23日9:00-10月29日9:00 | I4: 在线课程测评平台：https://cdcass.taiskeji.com | J4: ="""D://PIC//"&E4&".JPG""" -> "D://PIC//51032220051026573X.JPG"
A5: 传媒与演艺学院 | B5: 2024播音与主持(专)2 | C5: 241110560228 | D5: 张佳宁 | E5: =VLOOKUP(C5,[1]在校生数据2026!$E:$H,4,0) -> 410902200607250829 | F5: 形势与政策 | G5: 重新学习考试 | H5: 2026年10月23日9:00-10月29日9:00 | I5: 在线课程测评平台：https://cdcass.taiskeji.com | J5: ="""D://PIC//"&E5&".JPG""" -> "D://PIC//410902200607250829.JPG"
A6: 传媒与演艺学院 | B6: 2024播音与主持(专)2 | C6: 241110560230 | D6: 任钥 | E6: =VLOOKUP(C6,[1]在校生数据2026!$E:$H,4,0) -> 130681200603151067 | F6: [142945]大学外语Ⅳ（英语 艺体专科） | G6: 重新学习考试 | H6: 2026.10.24.10.24（周六）09:00-11:00 | I6: D402 | J6: ="""D://PIC//"&E6&".JPG""" -> "D://PIC//130681200603151067.JPG"
A7: 传媒与演艺学院 | B7: 2024播音与主持(专)2 | C7: 241110560234 | D7: 杨棕翔 | E7: =VLOOKUP(C7,[1]在校生数据2026!$E:$H,4,0) -> 511721200512174432 | F7: 形势与政策 | G7: 重新学习考试 | H7: 2026年10月23日9:00-10月29日9:00 | I7: 在线课程测评平台：https://cdcass.taiskeji.com | J7: ="""D://PIC//"&E7&".JPG""" -> "D://PIC//511721200512174432.JPG"
A8: 传媒与演艺学院 | B8: 2024播音与主持(专)2 | C8: 241110560234 | D8: 杨棕翔 | E8: =VLOOKUP(C8,[1]在校生数据2026!$E:$H,4,0) -> 511721200512174432 | F8: [080054]大学生科学技术通论 | G8: 重新学习考试 | H8: 2026.10.24.10.23（周五）15:20-17:20 | I8: D401 | J8: ="""D://PIC//"&E8&".JPG""" -> "D://PIC//511721200512174432.JPG"
A9: 传媒与演艺学院 | B9: 2024播音与主持(专)2 | C9: 241110560234 | D9: 杨棕翔 | E9: =VLOOKUP(C9,[1]在校生数据2026!$E:$H,4,0) -> 511721200512174432 | F9: [142945]大学外语Ⅳ（英语 艺体专科） | G9: 重新学习考试 | H9: 2026.10.24.10.24（周六）09:00-11:00 | I9: D402 | J9: ="""D://PIC//"&E9&".JPG""" -> "D://PIC//511721200512174432.JPG"
A10: 传媒与演艺学院 | B10: 2024播音与主持(专)5 | C10: 221110560107 | D10: 吕易苍 | E10: =VLOOKUP(C10,[1]在校生数据2026!$E:$H,4,0) -> 510182200407230075 | F10: 形势与政策 | G10: 重新学习考试 | H10: 2026年10月23日9:00-10月29日9:00 | I10: 在线课程测评平台：https://cdcass.taiskeji.com | J10: ="""D://PIC//"&E10&".JPG""" -> "D://PIC//510182200407230075.JPG"
A11: 传媒与演艺学院 | B11: 2024播音与主持(专)5 | C11: 231110560306 | D11: 张思颖 | E11: 130732200501240040 | F11: [13671123]形势与政策 | G11: 重新学习考试 | H11: 2026年10月23日9:00-10月29日9:00 | I11: 在线课程测评平台：https://cdcass.taiskeji.com | J11: ="""D://PIC//"&E11&".JPG""" -> "D://PIC//130732200501240040.JPG"
A12: 传媒与演艺学院 | B12: 2024播音与主持(专)5 | C12: 231110560306 | D12: 张思颖 | E12: 130732200501240040 | F12: [080051]大学生职业素养与人生规划Ⅴ | G12: 重新学习考试 | H12: 2026.10.24.10.23（周五）13:00-15:00 | I12: D404 | J12: ="""D://PIC//"&E12&".JPG""" -> "D://PIC//130732200501240040.JPG"
A13: 传媒与演艺学院 | B13: 2024舞蹈表演(专)2 | C13: 221110660126 | D13: 叶倩 | E13: =VLOOKUP(C13,[1]在校生数据2026!$E:$H,4,0) -> 510121200403059220 | F13: 形势与政策 | G13: 重新学习考试 | H13: 2026年10月23日9:00-10月29日9:00 | I13: 在线课程测评平台：https://cdcass.taiskeji.com | J13: ="""D://PIC//"&E13&".JPG""" -> "D://PIC//510121200403059220.JPG"
A14: 传媒与演艺学院 | B14: 2024音乐表演(专)1 | C14: 231110760104 | D14: 康卓 | E14: =VLOOKUP(C14,[1]在校生数据2026!$E:$H,4,0) -> 511322200407264115 | F14: 形势与政策 | G14: 重新学习考试 | H14: 2026年10月23日9:00-10月29日9:00 | I14: 在线课程测评平台：https://cdcass.taiskeji.com | J14: ="""D://PIC//"&E14&".JPG""" -> "D://PIC//511322200407264115.JPG"
A15: 传媒与演艺学院 | B15: 2024音乐表演(专)1 | C15: 231110760104 | D15: 康卓 | E15: =VLOOKUP(C15,[1]在校生数据2026!$E:$H,4,0) -> 511322200407264115 | F15: [080044]大学生职业素养与人生规划Ⅳ | G15: 重新学习考试 | H15: 2026.10.24.10.23（周五）09:00-11:00 | I15: D301 | J15: ="""D://PIC//"&E15&".JPG""" -> "D://PIC//511322200407264115.JPG"
A16: 传媒与演艺学院 | B16: 2024音乐表演(专)1 | C16: 231110760104 | D16: 康卓 | E16: =VLOOKUP(C16,[1]在校生数据2026!$E:$H,4,0) -> 511322200407264115 | F16: [080051]大学生职业素养与人生规划Ⅴ | G16: 重新学习考试 | H16: 2026.10.24.10.23（周五）13:00-15:00 | I16: D404 | J16: ="""D://PIC//"&E16&".JPG""" -> "D://PIC//511322200407264115.JPG"
A17: 传媒与演艺学院 | B17: 2024音乐表演(专)1 | C17: 231110760104 | D17: 康卓 | E17: =VLOOKUP(C17,[1]在校生数据2026!$E:$H,4,0) -> 511322200407264115 | F17: [080054]大学生科学技术通论 | G17: 重新学习考试 | H17: 2026.10.24.10.23（周五）15:20-17:20 | I17: D401 | J17: ="""D://PIC//"&E17&".JPG""" -> "D://PIC//511322200407264115.JPG"
A18: 传媒与演艺学院 | B18: 2024音乐表演(专)1 | C18: 231110760104 | D18: 康卓 | E18: =VLOOKUP(C18,[1]在校生数据2026!$E:$H,4,0) -> 511322200407264115 | F18: [142945]大学外语Ⅳ（英语 艺体专科） | G18: 重新学习考试 | H18: 2026.10.24.10.24（周六）09:00-11:00 | I18: D402 | J18: ="""D://PIC//"&E18&".JPG""" -> "D://PIC//511322200407264115.JPG"
A19: 传媒与演艺学院 | B19: 2024音乐表演(专)1 | C19: 231110760110 | D19: 唐旗 | E19: =VLOOKUP(C19,[1]在校生数据2026!$E:$H,4,0) -> 513227200310304211 | F19: [080044]大学生职业素养与人生规划Ⅳ | G19: 重新学习考试 | H19: 2026.10.24.10.23（周五）09:00-11:00 | I19: D301 | J19: ="""D://PIC//"&E19&".JPG""" -> "D://PIC//513227200310304211.JPG"
A20: 传媒与演艺学院 | B20: 2024音乐表演(专)1 | C20: 231110760110 | D20: 唐旗 | E20: =VLOOKUP(C20,[1]在校生数据2026!$E:$H,4,0) -> 513227200310304211 | F20: [142945]大学外语Ⅳ（英语 艺体专科） | G20: 重新学习考试 | H20: 2026.10.24.10.24（周六）09:00-11:00 | I20: D402 | J20: ="""D://PIC//"&E20&".JPG""" -> "D://PIC//513227200310304211.JPG"
A21: 传媒与演艺学院 | B21: 2024音乐表演(专)1 | C21: 231110760110 | D21: 唐旗 | E21: =VLOOKUP(C21,[1]在校生数据2026!$E:$H,4,0) -> 513227200310304211 | F21: 形势与政策 | G21: 重新学习考试 | H21: 2026年10月23日9:00-10月29日9:00 | I21: 在线课程测评平台：https://cdcass.taiskeji.com | J21: ="""D://PIC//"&E21&".JPG""" -> "D://PIC//513227200310304211.JPG"
A22: 传媒与演艺学院 | B22: 2024音乐表演(专)1 | C22: 241110760102 | D22: 侯永平 | E22: =VLOOKUP(C22,[1]在校生数据2026!$E:$H,4,0) -> 510183200602150210 | F22: [080044]大学生职业素养与人生规划Ⅳ | G22: 重新学习考试 | H22: 2026.10.24.10.23（周五）09:00-11:00 | I22: D301 | J22: ="""D://PIC//"&E22&".JPG""" -> "D://PIC//510183200602150210.JPG"
A23: 传媒与演艺学院 | B23: 2024音乐表演(专)1 | C23: 241110760102 | D23: 侯永平 | E23: =VLOOKUP(C23,[1]在校生数据2026!$E:$H,4,0) -> 510183200602150210 | F23: [142945]大学外语Ⅳ（英语 艺体专科） | G23: 重新学习考试 | H23: 2026.10.24.10.24（周六）09:00-11:00 | I23: D402 | J23: ="""D://PIC//"&E23&".JPG""" -> "D://PIC//510183200602150210.JPG"
A24: 传媒与演艺学院 | B24: 2024音乐表演(专)1 | C24: 241110760102 | D24: 侯永平 | E24: =VLOOKUP(C24,[1]在校生数据2026!$E:$H,4,0) -> 510183200602150210 | F24: 形势与政策 | G24: 重新学习考试 | H24: 2026年10月23日9:00-10月29日9:00 | I24: 在线课程测评平台：https://cdcass.taiskeji.com | J24: ="""D://PIC//"&E24&".JPG""" -> "D://PIC//510183200602150210.JPG"
... A38: 传媒与演艺学院 | B38: 2024音乐表演(专)2 | C38: 241110760225 | D38: 罗梓豪 | E38: =VLOOKUP(C38,[1]在校生数据2026!$E:$H,4,0) -> 510504200605170037 | F38: 形势与政策 | G38: 重新学习考试 | H38: 2026年10月23日9:00-10月29日9:00 | I38: 在线课程测评平台：https://cdcass.taiskeji.com | J38: ="""D://PIC//"&E38&".JPG""" -> "D://PIC//510504200605170037.JPG"
A39: 传媒与演艺学院 | E39: =VLOOKUP(C39,[1]在校生数据2026!$E:$H,4,0) -> #N/A
A40: 传媒与演艺学院 | E40: =VLOOKUP(C40,[1]在校生数据2026!$E:$H,4,0) -> #N/A
A41: 传媒与演艺学院 | E41: =VLOOKUP(C41,[1]在校生数据2026!$E:$H,4,0) -> #N/A
A42: 会计学院 | B42: 2024大数据与财务管理(专)2 | C42: 241040460227 | D42: 管辰浩 | E42: =VLOOKUP(C42,[1]在校生数据2026!$E:$H,4,0) -> 360981200603298113 | F42: [142943]大学外语Ⅳ（英语 普通专科） | G42: 重新学习考试 | H42: 2026.10.24.10.24（周六）09:00-11:00 | I42: D401 | J42: ="""D://PIC//"&E42&".JPG""" -> "D://PIC//360981200603298113.JPG"
A43: 会计学院 | B43: 2024大数据与会计(专)1 | C43: 241040560110 | D43: 吕思妍 | E43: =VLOOKUP(C43,[1]在校生数据2026!$E:$H,4,0) -> 511421200605076704 | F43: [080054]大学生科学技术通论 | G43: 重新学习考试 | H43: 2026.10.24.10.23（周五）15:20-17:20 | I43: D401 | J43: ="""D://PIC//"&E43&".JPG""" -> "D://PIC//511421200605076704.JPG"
A44: 会计学院 | B44: 2024大数据与会计(专)4 | C44: 241040560424 | D44: 张昕怡 | E44: =VLOOKUP(C44,[1]在校生数据2026!$E:$H,4,0) -> 510122200605270047 | F44: 形势与政策 | G44: 重新学习考试 | H44: 2026年10月23日9:00-10月29日9:00 | I44: 在线课程测评平台：https://cdcass.taiskeji.com | J44: ="""D://PIC//"&E44&".JPG""" -> "D://PIC//510122200605270047.JPG"
A45: 会计学院 | B45: 2024大数据与会计(专)5 | C45: 231040560313 | D45: 比曲色轨 | E45: =VLOOKUP(C45,[1]在校生数据2026!$E:$H,4,0) -> 513428200302251719 | F45: 形势与政策 | G45: 重新学习考试 | H45: 2026年10月23日9:00-10月29日9:00 | I45: 在线课程测评平台：https://cdcass.taiskeji.com | J45: ="""D://PIC//"&E45&".JPG""" -> "D://PIC//513428200302251719.JPG"
A46: 会计学院 | B46: 2024大数据与会计(专)5 | C46: 231040560313 | D46: 比曲色轨 | E46: =VLOOKUP(C46,[1]在校生数据2026!$E:$H,4,0) -> 513428200302251719 | F46: [142943]大学外语Ⅳ（英语 普通专科） | G46: 重新学习考试 | H46: 2026.10.24.10.24（周六）09:00-11:00 | I46: D401 | J46: ="""D://PIC//"&E46&".JPG""" -> "D://PIC//513428200302251719.JPG"
A47: 会计学院 | B47: 2024大数据与会计(专)7 | C47: 241040560711 | D47: 殷语梦 | E47: =VLOOKUP(C47,[1]在校生数据2026!$E:$H,4,0) -> 510411200608158429 | F47: [142943]大学外语Ⅳ（英语 普通专科） | G47: 重新学习考试 | H47: 2026.10.24.10.24（周六）09:00-11:00 | I47: D401 | J47: ="""D://PIC//"&E47&".JPG""" -> "D://PIC//510411200608158429.JPG"
A48: 会计学院 | B48: 2024大数据与会计(专)7 | C48: 241040560729 | D48: 张志国 | E48: =VLOOKUP(C48,[1]在校生数据2026!$E:$H,4,0) -> 511902200509276915 | F48: 形势与政策 | G48: 重新学习考试 | H48: 2026年10月23日9:00-10月29日9:00 | I48: 在线课程测评平台：https://cdcass.taiskeji.com | J48: ="""D://PIC//"&E48&".JPG""" -> "D://PIC//511902200509276915.JPG"
A49: 会计学院 | B49: 2024大数据与会计(专)7 | C49: 241040560734 | D49: 贾斯哲 | E49: =VLOOKUP(C49,[1]在校生数据2026!$E:$H,4,0) -> 650203200505262119 | F49: 形势与政策 | G49: 重新学习考试 | H49: 2026年10月23日9:00-10月29日9:00 | I49: 在线课程测评平台：https://cdcass.taiskeji.com | J49: ="""D://PIC//"&E49&".JPG""" -> "D://PIC//650203200505262119.JPG"
A50: 会计学院 | E50: =VLOOKUP(C50,[1]在校生数据2026!$E:$H,4,0) -> #N/A
A51: 会计学院 | E51: =VLOOKUP(C51,[1]在校生数据2026!$E:$H,4,0) -> #N/A
A52: 教育学院 | B52: 2024学前教育(专)3 | C52: 241080760301 | D52: 邓炜锋 | E52: =VLOOKUP(C52,[1]在校生数据2026!$E:$H,4,0) -> 512022200607040014 | F52: 形势与政策 | G52: 重新学习考试 | H52: 2026年10月23日9:00-10月29日9:00 | I52: 在线课程测评平台：https://cdcass.taiskeji.com | J52: ="""D://PIC//"&E52&".JPG""" -> "D://PIC//512022200607040014.JPG"
A53: 教育学院 | E53: =VLOOKUP(C53,[1]在校生数据2026!$E:$H,4,0) -> #N/A
...
